BEGIN:VCALENDAR
VERSION:2.0
PRODID:-//Arte Que Acontece - ECPv6.15.20//NONSGML v1.0//EN
CALSCALE:GREGORIAN
METHOD:PUBLISH
X-WR-CALNAME:Arte Que Acontece
X-ORIGINAL-URL:https://artequeacontece.com.br
X-WR-CALDESC:Eventos para Arte Que Acontece
REFRESH-INTERVAL;VALUE=DURATION:PT1H
X-Robots-Tag:noindex
X-PUBLISHED-TTL:PT1H
BEGIN:VTIMEZONE
TZID:America/Sao_Paulo
BEGIN:STANDARD
TZOFFSETFROM:-0300
TZOFFSETTO:-0300
TZNAME:-03
DTSTART:20220101T000000
END:STANDARD
END:VTIMEZONE
BEGIN:VEVENT
DTSTART;TZID=America/Sao_Paulo:20230125T100000
DTEND;TZID=America/Sao_Paulo:20230430T180000
DTSTAMP:20260419T163015
CREATED:20230211T205341Z
LAST-MODIFIED:20230216T002801Z
UID:37876-1674640800-1682877600@artequeacontece.com.br
SUMMARY:"Michelangelo: O Mestre da Capela Sistina" no MIS Experience
DESCRIPTION:Michelangelo: O Mestre da Capela Sistina é a maior exposição imersiva já realizada no Brasil sobre a Capela Sistina e os afrescos de Michelangelo\, que estão entre as mais famosas obras da história da arte. A reprodução gigante do teto da Capela Sistina\, com estrutura criada exclusivamente para esta exposição\, vai proporcionar ao público uma experiência inédita de imersão no ambiente\, inclusive com a reprodução dos famosos mosaicos no piso. O espaço expositivo conta com recursos de alta tecnologia de animação e sonorização\, promovendo um mergulho dos visitantes nas obras de Michelangelo. Detalhes sobre cada grupo de afrescos criados pelo pintor renascentista italiano compõem a experiência. Com mil metros quadrados divididos em 14 salas expositivas\, a mostra apresenta espaços dedicados à arquitetura\, história e curiosidades da Capela Sistina\, além da sala de imersão com projeções gigantes no teto e nas paredes. Os conteúdos das salas\, elaborados pelo professor e historiador de arte Luiz Marques (que assina a curadoria da exposição)\, trazem informações sobre a construção da Capela\, suas tradições e seu uso pelo Vaticano\, com destaque para uma maquete e uma réplica da chave da igreja. Os visitantes também conferem esculturas\, desenhos\, estudos e projetos do renascentista Michelangelo\, considerado um dos maiores ícones da história da arte do Ocidente. A reprodução em larga escala do ateliê do artista é um dos destaques da exposição\, que apresenta gravuras gigantes das obras\, cartas\, manuscritos e documentos sobre o processo de desenvolvimento dos afrescos. Todos os itens da mostra são homologados pelas instituições italianas que preservam o legado artístico de Michelangelo.
URL:https://artequeacontece.com.br/evento/michelangelo-o-mestre-da-capela-sistina-no-mis-experience/
LOCATION:MIS Experience\, 250 R. Cenno Sbrighi Água Branca\, São Paulo\, São Paulo\, Brasil
CATEGORIES:São Paulo
ATTACH;FMTTYPE=image/jpeg:https://artequeacontece.com.br/wp-content/uploads/2023/02/70387429-49099507.jpeg
END:VEVENT
END:VCALENDAR