BEGIN:VCALENDAR
VERSION:2.0
PRODID:-//Arte Que Acontece - ECPv6.15.20//NONSGML v1.0//EN
CALSCALE:GREGORIAN
METHOD:PUBLISH
X-WR-CALNAME:Arte Que Acontece
X-ORIGINAL-URL:https://artequeacontece.com.br
X-WR-CALDESC:Eventos para Arte Que Acontece
REFRESH-INTERVAL;VALUE=DURATION:PT1H
X-Robots-Tag:noindex
X-PUBLISHED-TTL:PT1H
BEGIN:VTIMEZONE
TZID:America/Sao_Paulo
BEGIN:STANDARD
TZOFFSETFROM:-0300
TZOFFSETTO:-0300
TZNAME:-03
DTSTART:20210101T000000
END:STANDARD
END:VTIMEZONE
BEGIN:VEVENT
DTSTART;TZID=America/Sao_Paulo:20221128T080000
DTEND;TZID=America/Sao_Paulo:20231203T170000
DTSTAMP:20260419T123254
CREATED:20230119T162532Z
LAST-MODIFIED:20230216T142943Z
UID:35843-1669622400-1701622800@artequeacontece.com.br
SUMMARY:Michel Magerus no ICA
DESCRIPTION:“Progressive Aesthetics” é a primeira retrospectiva do ICA sobre o artista luxemburguês Michel Majerus\, morto precocemente em um acidente de avião aos 37 anos (2002)\, retomando suas obras ricas em interpretações do capitalismo e do imperialismo cultural na arte e na cultura norte-americana. Criadas no limiar do século 21\, as obras de Majerus expõem temas de transformação e são caracterizadas por um fascínio pela velocidade\, tecnologia\, cultura jovem e história da arte\, todas unidas por sua obsessão com o poder da arte e das instituições. A exposição reúne obras de toda a breve\, mas dinâmica e prolífica carreira de Majerus\, destacando sua oportuna reflexão e crítica sobre a onipresença das imagens. “Progressive Aesthetics” começa com obras do início dos anos 1990\, em que Majerus aborda a história do modernismo\, antagonizando movimentos de vanguarda do século 20\, seu poder e limitações. Trazendo as influências da História da Arte no trabalho de Majerus\, a exposição também inclui pinturas abstratas que citam mestres modernos como Willem de Kooning e Frank Stella. Em “Progressive Aesthetics” estão seis obras consideradas das imagens mais conhecidas do artista: apropriações de serigrafias das famosas (e às vezes infames) colaborações entre Andy Warhol e Jean-Michel Basquiat entre 1984-85. Considerando-se um colaborador desses artistas\, Majerus refaz as imagens\, achatando-as e acrescentando floreios quase mecânicos\, numa reflexão sobre o gênio e a noção de que a maestria produz originalidade. Enquanto morou em Berlim durante sua vida adulta\, Majerus visitou os Estados Unidos várias vezes\, principalmente na residência de um ano em Los Angeles em 2000-01. Seu fascínio pela cultura pop\, a paisagem americana\, o consumismo e a violência são os principais temas da série “L.A. Paintings”\, que inclui as obras “Deutsch Amerikanische Freundschaft” (2001) e “Splash bombs 2” (2002). 
URL:https://artequeacontece.com.br/evento/michel-magerus-no-ica/
LOCATION:ICA\, 61 NE 41st St Miami Design District\, Miami\, Flórida\, Estados Unidos
CATEGORIES:Miami
ATTACH;FMTTYPE=image/jpeg:https://artequeacontece.com.br/wp-content/uploads/2023/01/69088727-48421893.jpeg
END:VEVENT
END:VCALENDAR