BEGIN:VCALENDAR
VERSION:2.0
PRODID:-//Arte Que Acontece - ECPv6.15.20//NONSGML v1.0//EN
CALSCALE:GREGORIAN
METHOD:PUBLISH
X-WR-CALNAME:Arte Que Acontece
X-ORIGINAL-URL:https://artequeacontece.com.br
X-WR-CALDESC:Eventos para Arte Que Acontece
REFRESH-INTERVAL;VALUE=DURATION:PT1H
X-Robots-Tag:noindex
X-PUBLISHED-TTL:PT1H
BEGIN:VTIMEZONE
TZID:America/Sao_Paulo
BEGIN:STANDARD
TZOFFSETFROM:-0300
TZOFFSETTO:-0300
TZNAME:-03
DTSTART:20250101T000000
END:STANDARD
END:VTIMEZONE
BEGIN:VEVENT
DTSTART;TZID=America/Sao_Paulo:20260408T110000
DTEND;TZID=America/Sao_Paulo:20260705T200000
DTSTAMP:20260425T113419
CREATED:20260424T121426Z
LAST-MODIFIED:20260424T141957Z
UID:71488-1775646000-1783281600@artequeacontece.com.br
SUMMARY:"Invenção e ancestralidade na arte afro-brasileira"\, de Mestre Didi no Itaú Cultural
DESCRIPTION:Foto: Cortesia do Itaú Cultural\nEm cartaz no Itaú Cultural\, a exposição Mestre Didi – invenção e ancestralidade na arte afro-brasileira apresenta uma ampla retrospectiva dedicada à trajetória de Mestre Didi\, figura central da arte afro-brasileira do século 20. Com curadoria de Ayrson Heráclito e Rodrigo Moura\, a mostra reúne cerca de 170 obras e documentos que percorrem mais de cinco décadas de produção do artista\, escritor\, pesquisador e sacerdote. \nDistribuída em três andares\, a exposição evidencia a amplitude de sua atuação\, articulando arte\, espiritualidade e pensamento. Esculturas\, fotografias\, manuscritos\, livros e registros históricos revelam como Mestre Didi elaborou uma linguagem visual singular\, profundamente enraizada nas cosmologias afro-atlânticas e nas tradições do candomblé. Sua obra reafirma a ancestralidade como força criativa e política\, ampliando os horizontes da arte brasileira.
URL:https://artequeacontece.com.br/evento/mestre-didi-invencao-ancestralidade-arte-afro-brasileira-itau-cultural/
LOCATION:Itaú Cultural\, 149 Av. Paulista Bela Vista\, São Paulo\, São Paulo\, Brasil
CATEGORIES:São Paulo
ATTACH;FMTTYPE=image/jpeg:https://artequeacontece.com.br/wp-content/uploads/2026/04/95vctfzx8ykcg8gojzodf1yqd0x5.jpeg
END:VEVENT
END:VCALENDAR