BEGIN:VCALENDAR
VERSION:2.0
PRODID:-//Arte Que Acontece - ECPv6.15.20//NONSGML v1.0//EN
CALSCALE:GREGORIAN
METHOD:PUBLISH
X-WR-CALNAME:Arte Que Acontece
X-ORIGINAL-URL:https://artequeacontece.com.br
X-WR-CALDESC:Eventos para Arte Que Acontece
REFRESH-INTERVAL;VALUE=DURATION:PT1H
X-Robots-Tag:noindex
X-PUBLISHED-TTL:PT1H
BEGIN:VTIMEZONE
TZID:America/Sao_Paulo
BEGIN:STANDARD
TZOFFSETFROM:-0300
TZOFFSETTO:-0300
TZNAME:-03
DTSTART:20230101T000000
END:STANDARD
END:VTIMEZONE
BEGIN:VEVENT
DTSTART;TZID=America/Sao_Paulo:20240406T110000
DTEND;TZID=America/Sao_Paulo:20240608T180000
DTSTAMP:20260423T085220
CREATED:20240408T211603Z
LAST-MODIFIED:20240408T211606Z
UID:48043-1712401200-1717869600@artequeacontece.com.br
SUMMARY:"Messinscena" de Alba Clemente no auroras
DESCRIPTION:Alba Clemente\, Prima Sigaretta [detallhe]\, da série “A Clear Mind”\, 2020-2023. Crédito de Fotografia: Cortesia da artista\n\n\n\nO auroras apresenta Messinscena\, a primeira exposição de Alba Clemente\, atriz de teatro\, designer\, figurinista e artista visual. \n\n\n\nO objeto central da exposição é uma instalação na biblioteca onde a artista recria um pequeno teatro que construiu em Greenpoint\, Brooklyn. O pano de fundo é uma imagem do Teatro Asolo (Treviso\, IT\, 1798)\, sobreposta por um desenho de duas cartas de Tarô\, imagem que simboliza ela e o seu marido como um só. Na reprodução em miniatura deste teatro feita por Alba\, o espectador é colocado em um lugar imaginário\, onde a visão do ator e a visão do público se sobrepõem.Ainda na biblioteca\, a artista exibe uma série de desenhos em tela inspirados em “VictoryCity”\, último livro de Salman Rushdie. Surpreendentemente gráfica e ao mesmo tempo silenciosa e discreta\, esta série é intitulada “City of Words” [Cidade das Palavras]. \n\n\n\nO espaço principal é dedicado a uma série de desenhos em papel e tecido publicados recentemente em seu livro “A Clear Mind” [Uma Mente Clara]. O livro é uma chave e um mapa da eclética experiência de vida de Alba Clemente e está dividido em cinco partes: memórias\, pensamentos\, emoções\, política e fantasias. Todos esses temas estão representados em seus desenhos espirituosos e surpreendentes. \n\n\n\nNo andar de cima\, um vídeo mostra como funciona seu teatro\, seguido de um filme da peça dirigido por Andrew Ondrejcak. Intitulado “Live Portrait: Alba Clemente”\, o filme é inspirado nas aventuras de Alba através do desenho\, das viagens\, da moda e do teatro – uma gama de expressões diversas tornadas coerentes pelo toque único da artista.
URL:https://artequeacontece.com.br/evento/messinscena-de-alba-clemente-no-auroras/
LOCATION:Auroras\, 426 Av. São Valério Morumbi\, São Paulo\, São Paulo\, Brasil
CATEGORIES:São Paulo
ATTACH;FMTTYPE=image/jpeg:https://artequeacontece.com.br/wp-content/uploads/2024/04/5-prima-sigaretta.jpg
END:VEVENT
END:VCALENDAR