BEGIN:VCALENDAR
VERSION:2.0
PRODID:-//Arte Que Acontece - ECPv6.15.20//NONSGML v1.0//EN
CALSCALE:GREGORIAN
METHOD:PUBLISH
X-WR-CALNAME:Arte Que Acontece
X-ORIGINAL-URL:https://artequeacontece.com.br
X-WR-CALDESC:Eventos para Arte Que Acontece
REFRESH-INTERVAL;VALUE=DURATION:PT1H
X-Robots-Tag:noindex
X-PUBLISHED-TTL:PT1H
BEGIN:VTIMEZONE
TZID:America/Sao_Paulo
BEGIN:STANDARD
TZOFFSETFROM:-0300
TZOFFSETTO:-0300
TZNAME:-03
DTSTART:20240101T000000
END:STANDARD
END:VTIMEZONE
BEGIN:VEVENT
DTSTART;TZID=America/Sao_Paulo:20251101T100000
DTEND;TZID=America/Sao_Paulo:20260124T190000
DTSTAMP:20260422T054611
CREATED:20251030T163432Z
LAST-MODIFIED:20251030T163432Z
UID:66010-1761991200-1769281200@artequeacontece.com.br
SUMMARY:"Men in Love" de Douglas de Souza na Claraboia
DESCRIPTION:Douglas de Souza\, “I’d rather be your lover”\, 2025. Crédito: Douglas de Souza\nA individual Men in Love\, de Douglas de Souza (Blumenau\, 1984)\, com curadoria de Domenico de Chirico\, reúne 12 pinturas inéditas a óleo que evidenciam as tensões entre força e fragilidade\, masculino e feminino\, superfície e interioridade\, com cores vibrantes e um imaginário que combina esplendor e fissura. \nO título da exposição\, inspirado na canção homônima da banda norte-americanaGossip\, investiga as complexidades das relações afetivas entre homens e estabelece a atmosfera poética que percorre o conjunto e a narrativa em torno do desejo\,\nidentidade\, pertencimento e a representação. \nDouglas de Souza cria pinturas figurativas e vibrantes\, em que cores intensas e luminosas e com a nitidez de imagens digitais. Suas composições\, estruturadas como colagens visuais\, articulam símbolos\, ícones pop\, alegorias clássicas e referências kitsch em um universo pessoal e expressivo. A partir dessas combinações\, o artista investiga estereótipos ligados à masculinidade por meio de materiais e objetos do cotidiano\, como cisnes\, cavalos\, porcelanas\, flores e motores. O brilho das superfícies polidas expressa uma beleza ambígua: sob a aparência rígida e luminosa\, revela-se a fragilidade das formas e o risco constante de ruptura. \nEm Men in Love\, Douglas de Souza não se limita a retratar homens apaixonados. Nesta mostra\, símbolos heterogêneos se encontram frente a frente\, em um espaço de negociação entre estética e afeto. Suas obras revelam as contradições do presente\, uma época de incessantes redefinições identitárias e equilibram intensidade e delicadeza\, política e sensualidade. \nA exposição conta com o apoio da galeria Cavalo (Rio de Janeiro)\, que representa o artista Douglas de Souza.
URL:https://artequeacontece.com.br/evento/men-in-love-de-douglas-de-souza-na-claraboia/
LOCATION:Claraboia\, Al. Gabriel Monteiro da Silva\, 2906 – Jardim América\, São Paulo\, SP\, Brazil
CATEGORIES:São Paulo
ATTACH;FMTTYPE=image/jpeg:https://artequeacontece.com.br/wp-content/uploads/2025/10/Douglas-de-Souza_Id-rather-be-your-lover-2025-1.jpg
END:VEVENT
END:VCALENDAR