BEGIN:VCALENDAR
VERSION:2.0
PRODID:-//Arte Que Acontece - ECPv6.15.20//NONSGML v1.0//EN
CALSCALE:GREGORIAN
METHOD:PUBLISH
X-WR-CALNAME:Arte Que Acontece
X-ORIGINAL-URL:https://artequeacontece.com.br
X-WR-CALDESC:Eventos para Arte Que Acontece
REFRESH-INTERVAL;VALUE=DURATION:PT1H
X-Robots-Tag:noindex
X-PUBLISHED-TTL:PT1H
BEGIN:VTIMEZONE
TZID:America/Sao_Paulo
BEGIN:STANDARD
TZOFFSETFROM:-0300
TZOFFSETTO:-0300
TZNAME:-03
DTSTART:20220101T000000
END:STANDARD
END:VTIMEZONE
BEGIN:VEVENT
DTSTART;TZID=America/Sao_Paulo:20230304T100000
DTEND;TZID=America/Sao_Paulo:20230416T170000
DTSTAMP:20260419T063847
CREATED:20230309T194827Z
LAST-MODIFIED:20230309T194830Z
UID:39129-1677924000-1681664400@artequeacontece.com.br
SUMMARY:"Memória do Futuro" no Memorial Getúlio Vargas
DESCRIPTION:Memória do Futuro é uma exposição coletiva com 23 artistas de diferentes estados do Brasil. São eles Consuelo Vezarro\, Cristina Canepa\, Danielle Cukierman\, Débora Rayel Eva\, Federico Guerreros\, Gláucia Crispino\, Leda Braga\, Lili Buzolin\, Lucy Copstein\, Marcia Rosa\, Michaela A F\, Odette Boudet\, Renata Carra\, Riyosuke Komatsu\, Rosa Hollmann\, Rosana Spagnuolo\, Rose Aguiar\, Sandra Gonçalves\, Sheila Riente\, Suzana Barbosa\, Tuca Chicalé Galvan\, Vitória Kachar e Yohana Oizumi. Com curadoria de Shannon Botelho\, a mostra reúne pinturas\, instalação\, fotografias\, desenhos\, esculturas e objetos que refletem o lastro temporal da memória como condutor de um futuro possível e de suas subjetividades. “Toda memória é uma projeção\, que para ser compreendida\, torna-se imagem mental. Elaboração do tempo\, da vida e de suas sensações\, a memória está inserida num conjunto que compreende experiências vividas\, alterações da realidade experimentada ou mesmo de atribuições de sentido para o inexistente\, uma vez que ‘a memória é uma ilha de edição’\, como nos ensinou Waly Salomão”\, explica Shannon. A memória possui ancoragem no passado\, porém o nosso ‘passado recente’ traz questões que percorrem as máculas da dor\, medo\, insegurança\, desespero. “Memória do Futuro é um momento de concentrar energias e projetar melhores dias\, tendo em vista o assombro do passado que não queremos repetir… É no terreno do agora que o artista constrói sua obra\, única forma de tocar o véu místico do futuro. Pois\, o futuro consiste naquilo que construímos ao agir no inerte fluxo do presente”\, observa o curador. As pintura possuem um lugar de destaque na mostra pelas suas relações subjetivas da memória\, dos sonhos e da natureza. Os objetos apresentados perpassam por memórias afetivas que determinam novos caminhos para um futuro em suspensão. As fotografia destacam as particulas do olhar de cada artista sobre a materialidade do cenário presente. As obras propostas para a exposição “indicam possibilidades de futuro: esperanças do amanhã\, energias do hoje e experiências do ontem. Estamos no coração do tempo\, um momento propício para retraçar os caminhos que desejamos percorrer”\, destaca Shannon Botelho.
URL:https://artequeacontece.com.br/evento/memoria-do-futuro-no-memorial-getulio-vargas/
LOCATION:Memorial Getúlio Vargas\, s/n Praça Luiz de Camões Glória\, Rio de Janeiro\, Rio de Janeiro\, Brasil
CATEGORIES:Rio de Janeiro
ATTACH;FMTTYPE=image/jpeg:https://artequeacontece.com.br/wp-content/uploads/2023/03/71190364-49611689.jpeg
END:VEVENT
END:VCALENDAR