BEGIN:VCALENDAR
VERSION:2.0
PRODID:-//Arte Que Acontece - ECPv6.15.20//NONSGML v1.0//EN
CALSCALE:GREGORIAN
METHOD:PUBLISH
X-WR-CALNAME:Arte Que Acontece
X-ORIGINAL-URL:https://artequeacontece.com.br
X-WR-CALDESC:Eventos para Arte Que Acontece
REFRESH-INTERVAL;VALUE=DURATION:PT1H
X-Robots-Tag:noindex
X-PUBLISHED-TTL:PT1H
BEGIN:VTIMEZONE
TZID:America/Sao_Paulo
BEGIN:STANDARD
TZOFFSETFROM:-0300
TZOFFSETTO:-0300
TZNAME:-03
DTSTART:20250101T000000
END:STANDARD
END:VTIMEZONE
BEGIN:VEVENT
DTSTART;VALUE=DATE:20260409
DTEND;VALUE=DATE:20260517
DTSTAMP:20260419T084934
CREATED:20260408T233239Z
LAST-MODIFIED:20260408T233239Z
UID:70886-1775692800-1778975999@artequeacontece.com.br
SUMMARY:"Meet Me Halfway" de Nicholas Grafia na Danielian
DESCRIPTION:Danielian São Paulo apresenta Meet Me Halfway\, primeira exposição individual de Nicholas Grafia no Brasil\, com curadoria de Dereck Marouço. A mostra reúne oito telas inéditas produzidas especialmente para a ocasião e marca o primeiro intercâmbio artístico internacional da galeria. Na abertura\, o artista realiza uma performance inédita. \nPartindo de referências que transitam entre personagens reais e narrativas fantásticas ou cinematográficas — como o universo de Pixote —\, Grafia constrói cenas e retratos que tensionam noções de identidade\, pertencimento e localidade. Suas composições se desenvolvem num território de instabilidade em que realidade e imaginação se cruzam para revelar o que há de estranho e fantástico na experiência cotidiana\, articulando a estética do absurdo e os estudos pós-coloniais.
URL:https://artequeacontece.com.br/evento/meet-me-halfway-de-nicholas-grafia-na-danielian/
LOCATION:Danielian Galeria São Paulo\, Rua Estados Unidos\, 2114 - Jardim América\, São Paulo\, SP\, Brasil
CATEGORIES:São Paulo
ATTACH;FMTTYPE=image/png:https://artequeacontece.com.br/wp-content/uploads/2026/04/YqAxilUwBWuRvU9z9sYQkL03042026200534.png
END:VEVENT
END:VCALENDAR