BEGIN:VCALENDAR
VERSION:2.0
PRODID:-//Arte Que Acontece - ECPv6.15.20//NONSGML v1.0//EN
CALSCALE:GREGORIAN
METHOD:PUBLISH
X-WR-CALNAME:Arte Que Acontece
X-ORIGINAL-URL:https://artequeacontece.com.br
X-WR-CALDESC:Eventos para Arte Que Acontece
REFRESH-INTERVAL;VALUE=DURATION:PT1H
X-Robots-Tag:noindex
X-PUBLISHED-TTL:PT1H
BEGIN:VTIMEZONE
TZID:America/Sao_Paulo
BEGIN:STANDARD
TZOFFSETFROM:-0300
TZOFFSETTO:-0300
TZNAME:-03
DTSTART:20220101T000000
END:STANDARD
END:VTIMEZONE
BEGIN:VEVENT
DTSTART;TZID=America/Sao_Paulo:20230624T100000
DTEND;TZID=America/Sao_Paulo:20230722T190000
DTSTAMP:20260422T070937
CREATED:20230623T202530Z
LAST-MODIFIED:20230623T202535Z
UID:41713-1687600800-1690052400@artequeacontece.com.br
SUMMARY:Marina Woisky na Millan
DESCRIPTION:Pedras e bichos d’água é a primeira exposição individual de Marina Woisky e conta com texto crítico assinado pelo curador Germano Dushá. Pedras e bichos d’água é composta apenas por obras inéditas\, criadas a partir da apropriação de imagens e combinação de processos de estamparia\, costura e preenchimento de tecido com cimento e manta acrílica\, transformadas em animais e paisagens que se mesclam em imagens intrincadas de cenas extraordinárias e quiméricas. A artista utiliza como substrato para sua produção imagens de objetos decorativos e de ornamentos com representações de animais e da natureza — como caixas de laquê\, esculturas de jade da Ásia e ornamentos arquitetônicos do barroco brasileiro. Woisky\, então\, expande\, recorta e edita essas imagens\, que depois ganham intervenções com costura ou pintura antes de serem “estofadas” com uma mistura de cimento. Algumas das peças são cobertas com resina\, o que as deixa com um aspecto brilhoso de pedras molhadas. “Interessada pela transmutação da mágica que envolve esses seres e lugares quando inspiram objetos corriqueiros\, Marina discute os meandros da produção imagética contemporânea\, esmiuçando o estatuto estético da decoração\, desde noções mais clássicas\, passando pelo pastiche e pelo kitsch\, até a cultura de massa e o advento digital”\, escreve Dushá no texto que acompanha a exposição. Como sugerido pelo título\, a exposição constitui uma paisagem insólita. Repleta de imagens de cachoeira e de animais\, após passarem por dezenas de transposições de mídia e materialidade se tornam difíceis de decifrar\, transformadas em seres limítrofes\, como se vistos sob a refração da superfície de uma corredeira.
URL:https://artequeacontece.com.br/evento/marina-woisky-na-millan/
LOCATION:Millan\, R. Fradique Coutinho\, 1.360\, São Paulo\, SP\, Brasil
CATEGORIES:São Paulo
ATTACH;FMTTYPE=image/jpeg:https://artequeacontece.com.br/wp-content/uploads/2023/06/Millan-Marina-Woisky-2-1.jpg
END:VEVENT
END:VCALENDAR