BEGIN:VCALENDAR
VERSION:2.0
PRODID:-//Arte Que Acontece - ECPv6.15.20//NONSGML v1.0//EN
CALSCALE:GREGORIAN
METHOD:PUBLISH
X-WR-CALNAME:Arte Que Acontece
X-ORIGINAL-URL:https://artequeacontece.com.br
X-WR-CALDESC:Eventos para Arte Que Acontece
REFRESH-INTERVAL;VALUE=DURATION:PT1H
X-Robots-Tag:noindex
X-PUBLISHED-TTL:PT1H
BEGIN:VTIMEZONE
TZID:America/Sao_Paulo
BEGIN:STANDARD
TZOFFSETFROM:-0300
TZOFFSETTO:-0300
TZNAME:-03
DTSTART:20220101T000000
END:STANDARD
END:VTIMEZONE
BEGIN:VEVENT
DTSTART;TZID=America/Sao_Paulo:20230618T110000
DTEND;TZID=America/Sao_Paulo:20240310T170000
DTSTAMP:20260419T123038
CREATED:20240203T162141Z
LAST-MODIFIED:20240203T162147Z
UID:46070-1687086000-1710090000@artequeacontece.com.br
SUMMARY:"Mapping an Art World: Los Angeles in the 1970s-80" no MOCA Grand Avenue
DESCRIPTION:Mapping an Art World: Los Angeles in the 1970s-80s revisita as décadas que antecederam a fundação do Museu de Arte Contemporânea (MOCA) em 1979 e a abertura do prédio da Grand Avenue do MOCA em 1986. Através da apresentação de obras da coleção do MOCA\, a exposição tem como objetivo reconsiderar as décadas decisivas dos anos 1970 e 1980 e explorar o espírito de experimentação e colaboração\, bem como a paisagem cultural e social única que contribuiu para estabelecer firmemente Los Angeles como uma das capitais artísticas mais dinâmicas do mundo\, e o MOCA como uma presença duradoura para os artistas da cidade. \n\n\n\nAntes da fundação do primeiro museu dedicado à arte contemporânea da cidade\, Los Angeles abrigava cenas de arte díspares e heterogêneas\, com artistas formando diferentes núcleos e estabelecendo redes sólidas por toda a cidade – de Venice a East LA\, do Instituto de Artes da Califórnia (CalArts) no norte à Galeria Brockman em Leimert Park. Na ausência de um museu de arte contemporânea\, os artistas utilizavam contextos não convencionais\, incluindo a rua\, o estúdio\, a escola de arte e outros espaços públicos para mostrar e apresentar sua arte\, enquanto abraçavam ações performáticas e efêmeras para envolver seu público de maneiras mais imediatas. Ao fazer isso\, os artistas estavam respondendo às possibilidades de uma cena artística em crescimento e à expansão urbana e à paisagem dispersa de LA. \n\n\n\nCom mais de 200 obras de arte e peças de material efêmero arquivado – incluindo obras amadas de Eleanor Antin\, John Baldessari\, Mike Kelley\, Claes Oldenburg e Ed Ruscha\, ao lado de obras menos exibidas e novas aquisições de Carole Caroompas\, Alonzo Davis\, Ilene Segalove e Joey Terrill\, entre outros – Mapeando um Mundo de Arte examina as origens do MOCA como um museu fundado por artistas\, bem como seu compromisso em desenvolver uma coleção de classe mundial. \n\n\n\nMapping an Art World é organizada por Clara Kim\, Chefe de Curadoria e Diretora de Assuntos Curatoriais\, e Rebecca Lowery\, Curadora Associada\, com a colaboração de Emilia Nicholson-Fajardo\, Assistente de Curadoria\, do Museu de Arte Contemporânea\, Los Angeles.
URL:https://artequeacontece.com.br/evento/mapping-an-art-world-los-angeles-in-the-1970s-80-no-moca-grand-avenue/
LOCATION:MOCA Grand Avenue\, 250 South Grand Avenue Los Angeles\, Los Angeles\, Califórnia\, Estados Unidos
CATEGORIES:Los Angeles
ATTACH;FMTTYPE=image/jpeg:https://artequeacontece.com.br/wp-content/uploads/2024/02/Barbara-Kasten-Architectural-Site-10-December-22-1986-1986.jpg
END:VEVENT
END:VCALENDAR