BEGIN:VCALENDAR
VERSION:2.0
PRODID:-//Arte Que Acontece - ECPv6.15.20//NONSGML v1.0//EN
CALSCALE:GREGORIAN
METHOD:PUBLISH
X-WR-CALNAME:Arte Que Acontece
X-ORIGINAL-URL:https://artequeacontece.com.br
X-WR-CALDESC:Eventos para Arte Que Acontece
REFRESH-INTERVAL;VALUE=DURATION:PT1H
X-Robots-Tag:noindex
X-PUBLISHED-TTL:PT1H
BEGIN:VTIMEZONE
TZID:America/Sao_Paulo
BEGIN:STANDARD
TZOFFSETFROM:-0300
TZOFFSETTO:-0300
TZNAME:-03
DTSTART:20240101T000000
END:STANDARD
END:VTIMEZONE
BEGIN:VEVENT
DTSTART;TZID=America/Sao_Paulo:20250705T100000
DTEND;TZID=America/Sao_Paulo:20251005T210000
DTSTAMP:20260422T153913
CREATED:20250704T130928Z
LAST-MODIFIED:20250704T130928Z
UID:63581-1751709600-1759698000@artequeacontece.com.br
SUMMARY:"Mapas Mentais" de Ana Amorim no MAC USP
DESCRIPTION:Ana Amorim\, “Second Embroidery”. Foto: Ana Pigosso\n\n\n\n\nO MAC USP inaugura no sábado\, 5 de julho\, a exposição Ana Amorim | Mapas Mentais\, reunindo cerca de 70 trabalhos da artista em quase quarenta anos de carreira. A mostra é a maior já realizada pela artista e apresenta\, pela primeira vez\, diversas de suas “Grandes telas”\, obras compostas de registros diários ao longo de um ano inteiro\, assim como obras inéditas e históricas ao longo de sua carreira. Durante os anos 1980\, Ana Amorim estudou matemática e artes\, em São Paulo\, e se mudou para os Estados Unidos para fazer seu mestrado em artes. Após um período dedicado principalmente à gravura\, passou a se interessar por uma prática de tipo conceitual\, que define sua produção a partir desse momento. “O aspecto da obra torna-se secundário em relação às preocupações éticas e ao rigor\, ao empenho e à coerência que definem sua prática”\, avalia Jacopo Crivelli Visconti\, curador da mostra. \nA prática artística de Ana Amorim alinha-se a sua postura ética e política fazendo com que\, ao longo dessas décadas\, ela tenha optado pelos caminhos que lhe pareciam corretos\, mas que contribuíram para uma pouca visibilidade de sua produção\, mesmo entre os profissionais da área. Até poucos anos atrás\, por acreditar que uma obra de arte não pertence a ninguém e que não pode ser apropriada\, ela se recusava a expor em lugares comerciais\, a vender suas obras e a participar de exposições patrocinadas por empresas privadas. \nA produção de Ana Amorim foi acolhida pelo MAC USP em diversos momentos. O Museu abrigou a primeira exposição individual da artista no Brasil e foi o primeiro a incorporar obras suas ao acervo. Em 2014\, a artista fez a doação de duas obras exibidas em 1990 no próprio Museu e em 2021 apresentou a performance Contar Segundos no espaço térreo do Museu durante uma semana. Segundo Ana Magalhães\, curadora do MAC USP\, “Ana Amorim tem uma produção atualíssima para um debate artístico dentro de um museu universitário\, espaço de reflexão crítica.” \nNos últimos 40 anos\, Ana Amorim registra sua vida através de mapas mentais e contando segundos. “Na concepção e no universo da artista\, ela e a sua produção são indissociáveis. Sua vida é arte. Sua arte não é uma representação da vida\, é a própria vida. Se está viva\, Ana Amorim está produzindo algo. Esse algo ela chama de arte\, mas é também\, ou principalmente\, um rastro da sua passagem pelo mundo\, e da passagem do tempo sobre ela. O tempo que passa sobre a artista é o mesmo tempo que passa sobre cada um de nós. Sua obra é intimamente pessoal: retrata em mapas singelos os movimentos dela ao longo de um dia\, de todos os dias da sua vida”\, diz o curador\, e completa: “são os mesmos movimentos que nós fazemos\, os mesmos segundos que nós vivemos. Não há diferença\, não existem hierarquias\, o tempo da artista não é nem mais nem menos importante do que o tempo de cada um de nós.”
URL:https://artequeacontece.com.br/evento/mapas-mentais-de-ana-amorim-no-mac-usp/
LOCATION:MAC USP\, Av. Pedro Álvares Cabral\, 1301 - Vila Mariana\, São Paulo\, SP\, Brasil
CATEGORIES:São Paulo
ATTACH;FMTTYPE=image/jpeg:https://artequeacontece.com.br/wp-content/uploads/2025/07/MAC-USP-220822-Millan-Ana-Amorim-ph-Ana-Pigosso-1-hr-1-1-1.jpg
END:VEVENT
END:VCALENDAR