BEGIN:VCALENDAR
VERSION:2.0
PRODID:-//Arte Que Acontece - ECPv6.15.20//NONSGML v1.0//EN
CALSCALE:GREGORIAN
METHOD:PUBLISH
X-WR-CALNAME:Arte Que Acontece
X-ORIGINAL-URL:https://artequeacontece.com.br
X-WR-CALDESC:Eventos para Arte Que Acontece
REFRESH-INTERVAL;VALUE=DURATION:PT1H
X-Robots-Tag:noindex
X-PUBLISHED-TTL:PT1H
BEGIN:VTIMEZONE
TZID:America/Sao_Paulo
BEGIN:STANDARD
TZOFFSETFROM:-0300
TZOFFSETTO:-0300
TZNAME:-03
DTSTART:20220101T000000
END:STANDARD
END:VTIMEZONE
BEGIN:VEVENT
DTSTART;TZID=America/Sao_Paulo:20230311T100000
DTEND;TZID=America/Sao_Paulo:20230429T190000
DTSTAMP:20260419T103159
CREATED:20230314T221507Z
LAST-MODIFIED:20230320T201422Z
UID:39293-1678528800-1682794800@artequeacontece.com.br
SUMMARY:Mano Penalva na Simões de Assis
DESCRIPTION:Cumeeira é a mostra individual de Mano Penalva com texto crítico de Marcelo Campos. Nela\, Penalva reúne trabalhos recentes que investigam elementos da casa\, tanto da arquitetura quanto de seus ornamentos mais transitórios. O desuso de certas manufaturas tradicionais e a industrialização levaram à escassez de materialidades consideradas populares\, artesanais\, como as palhinhas dos assentos de cadeiras e bancos\, os braços curvos de cadeiras de balanço\, as cortinas de bolinhas de madeira\, entre outros materiais que podem ser encontrados em estado precário ou que já se tornaram raridades. O termo “cumeeira” define o interesse de Penalva pela casa em seu estado transitório entre espaço privado e público\, já que designa a parte mais alta dos telhados\, mas também remonta às as “festas de cumeeira”: rituais de inauguração das casas que até hoje são realizados. Para além dos interesses pelos gestos populares\, pelas manufaturas em desuso e pelos ornamentos da casa\, a mostra apresenta um uso elaborado\, quase literário\, de metáforas visuais. A poética de Penalva articula afetos e memórias ao trazer lembranças ora da casa de uma avó\, ora de referências da história da arte brasileira\, apresentando um conjunto de trabalhos que convidam a dançar pela casa. Mano Penalva (Salvador\, 1987) transita por diversas linguagens\, tais como instalações\, esculturas\, pinturas\, vídeos e fotografias. Artista visual\, formado em Comunicação Social (2008) pela PUC/RJ\, frequentou cursos livres da Escola de Artes Visuais do Parque Lage. Seu ateliê é em São Paulo\, cidade que também abriga o Massapê Projetos\, plataforma gerida por artistas que possibilita o pensamento e produção de arte\, do qual é idealizador. Penalva busca investigar a formação da cultura brasileira e suas manifestações variadas. Um dos procedimentos utilizados em seu trabalho é o deslocamento preciso e incomum de fragmentos e objetos do cotidiano\, muitas vezes reutilizados e apropriados\, refletindo o interesse do artista pela antropologia e cultura material. 
URL:https://artequeacontece.com.br/evento/mano-penalva-na-simoes-de-assis/
LOCATION:Simões de Assis Galeria de Arte\, Rua Sarandi\, 113 A\, Jardins\, São Paulo\, 01414010\, Brasil
CATEGORIES:São Paulo
ATTACH;FMTTYPE=image/jpeg:https://artequeacontece.com.br/wp-content/uploads/2023/03/1677855123-mano-penalva-id3511-arlequim-1-min2.jpg
END:VEVENT
END:VCALENDAR