BEGIN:VCALENDAR
VERSION:2.0
PRODID:-//Arte Que Acontece - ECPv6.15.20//NONSGML v1.0//EN
CALSCALE:GREGORIAN
METHOD:PUBLISH
X-WR-CALNAME:Arte Que Acontece
X-ORIGINAL-URL:https://artequeacontece.com.br
X-WR-CALDESC:Eventos para Arte Que Acontece
REFRESH-INTERVAL;VALUE=DURATION:PT1H
X-Robots-Tag:noindex
X-PUBLISHED-TTL:PT1H
BEGIN:VTIMEZONE
TZID:America/Sao_Paulo
BEGIN:STANDARD
TZOFFSETFROM:-0300
TZOFFSETTO:-0300
TZNAME:-03
DTSTART:20220101T000000
END:STANDARD
END:VTIMEZONE
BEGIN:VEVENT
DTSTART;TZID=America/Sao_Paulo:20230413T110000
DTEND;TZID=America/Sao_Paulo:20240107T180000
DTSTAMP:20260422T053408
CREATED:20230517T194910Z
LAST-MODIFIED:20230517T194914Z
UID:40756-1681383600-1704650400@artequeacontece.com.br
SUMMARY:Madeleine Hunt-Ehrlich no Pérez Art Museum Miami
DESCRIPTION:Madeleine Hunt-Ehrlich (nascida em 1987) é uma cineasta e artista cujo trabalho mescla tradições narrativas e documentais para explorar histórias e experiências de mulheres negras nas Américas. A obra narrativa experimental de Hunt-Ehrlich\, intitulada Too Bright to See (Parte I)\, baseia-se em sua extensa pesquisa sobre o legado de Suzanne Roussi-Césaire\, escritora e ativista anticolonialista e feminista da Martinica\, que\, juntamente com seu marido\, Aimé Césaire\, esteve na vanguarda do movimento Négritude durante a primeira metade do século XX. Roussi-Césaire também se tornaria uma importante pensadora surrealista\, influenciando artistas como o pintor Wifredo Lam e o escritor André Breton. No entanto\, apesar de suas contribuições críticas para o pensamento caribenho e o discurso surrealista\, grande parte de seu trabalho foi negligenciado até recentemente. Too Bright to See (Parte I) entrelaça materiais de arquivo com cenas narrativas cinematográficas filmadas com um elenco não convencional e contemporâneo. Inspirando-se nas estéticas caribenhas e nas obras surrealistas\, esta instalação cinematográfica chama a atenção para aspectos inéditos do legado de Roussi-Césaire que estão ausentes do âmbito público\, ao mesmo tempo em que aborda a questão mais ampla do apagamento contínuo das mulheres dos relatos históricos.
URL:https://artequeacontece.com.br/evento/madeleine-hunt-ehrlich-no-perez-art-museum-miami/
LOCATION:Pérez Art Museum Miami\, 1103 Biscayne Blvd.\, Miami\, Flórida\, Estados Unidos
CATEGORIES:Miami
ATTACH;FMTTYPE=image/jpeg:https://artequeacontece.com.br/wp-content/uploads/2023/05/Sequence-03.00_17_09_03.Still004.jpg
END:VEVENT
END:VCALENDAR