BEGIN:VCALENDAR
VERSION:2.0
PRODID:-//Arte Que Acontece - ECPv6.15.20//NONSGML v1.0//EN
CALSCALE:GREGORIAN
METHOD:PUBLISH
X-WR-CALNAME:Arte Que Acontece
X-ORIGINAL-URL:https://artequeacontece.com.br
X-WR-CALDESC:Eventos para Arte Que Acontece
REFRESH-INTERVAL;VALUE=DURATION:PT1H
X-Robots-Tag:noindex
X-PUBLISHED-TTL:PT1H
BEGIN:VTIMEZONE
TZID:America/Sao_Paulo
BEGIN:STANDARD
TZOFFSETFROM:-0300
TZOFFSETTO:-0300
TZNAME:-03
DTSTART:20220101T000000
END:STANDARD
END:VTIMEZONE
BEGIN:VEVENT
DTSTART;TZID=America/Sao_Paulo:20231001T110000
DTEND;TZID=America/Sao_Paulo:20231231T180000
DTSTAMP:20260422T071709
CREATED:20231211T173043Z
LAST-MODIFIED:20231211T173048Z
UID:45236-1696158000-1704045600@artequeacontece.com.br
SUMMARY:"Made in L.A. 2023: Acts of Living" no Hammer Museum
DESCRIPTION:Made in L.A. 2023: Acts of Living é a sexta iteração da exposição bienal do Hammer que destaca as práticas de artistas que trabalham em toda a área metropolitana de Los Angeles. Essas práticas abraçam o valor da habilidade\, materialidade\, performance e coletividade. A bienal situa a arte como um campo expandido da cultura que está entrelaçado com a vida cotidiana\, redes comunitárias\, afeto queer e histórias indígenas e diaspóricas. \n\n\n\nMade in L.A. 2023: Acts of Living recebe seu título de uma citação do renomado artista de Los Angeles\, Noah Purifoy\, que está inscrita em uma placa nas Watts Towers: “Não é necessário ser um artista visual para utilizar o potencial criativo. A criatividade pode ser um ato de viver\, uma forma de vida e uma fórmula para fazer a coisa certa.” A história das Watts Towers\, construídas por Simon Rodia ao longo de 33 anos e depois preservadas pela comunidade local do sul de Los Angeles\, incluindo Purifoy\, para se tornar um centro de educação artística\, incorpora essa ética e oferece uma metáfora marcante para esta bienal.
URL:https://artequeacontece.com.br/evento/made-in-l-a-2023-acts-of-living-no-hammer-museum/
CATEGORIES:Los Angeles
ATTACH;FMTTYPE=image/jpeg:https://artequeacontece.com.br/wp-content/uploads/2023/12/MiLA23_Header-1-1.jpg
END:VEVENT
END:VCALENDAR