BEGIN:VCALENDAR
VERSION:2.0
PRODID:-//Arte Que Acontece - ECPv6.15.20//NONSGML v1.0//EN
CALSCALE:GREGORIAN
METHOD:PUBLISH
X-WR-CALNAME:Arte Que Acontece
X-ORIGINAL-URL:https://artequeacontece.com.br
X-WR-CALDESC:Eventos para Arte Que Acontece
REFRESH-INTERVAL;VALUE=DURATION:PT1H
X-Robots-Tag:noindex
X-PUBLISHED-TTL:PT1H
BEGIN:VTIMEZONE
TZID:America/Sao_Paulo
BEGIN:STANDARD
TZOFFSETFROM:-0300
TZOFFSETTO:-0300
TZNAME:-03
DTSTART:20230101T000000
END:STANDARD
END:VTIMEZONE
BEGIN:VEVENT
DTSTART;TZID=America/Sao_Paulo:20240810T110000
DTEND;TZID=America/Sao_Paulo:20240914T190000
DTSTAMP:20260422T160313
CREATED:20240813T141657Z
LAST-MODIFIED:20240813T141657Z
UID:50263-1723287600-1726340400@artequeacontece.com.br
SUMMARY:"Lugar de Passagem" de Laura Villarosa na Zipper Galeria
DESCRIPTION:Laura Villarosa\, Passagem #6\, 2024\n\n\n\n\nA Zipper Galeria anuncia a exposição “Lugar de Passagem” da artista Laura Villarosa\, com mais de dez obras inéditas que exploram a efemeridade do presente e a passagem do tempo através de técnicas têxteis e pintura. \nInspirada por uma viagem de trem de Paris a Deauville\, Villarosa capturou cenas em timelapse que serviram como base para seus trabalhos. As paisagens são apresentadas como se fossem vistas de um veículo em movimento\, criando uma analogia poética sobre a transitoriedade da vida. A artista utiliza tecidos\, linhas\, algodão\, nylon\, pintura acrílica\, aquarela e resina para dar forma a suas criações\, sem esboços prévios\, permitindo que a espontaneidade guie seu processo criativo. \nLaura Villarosa nasceu em Palermo\, Itália\, em 1961\, e atualmente reside em Niterói\, Rio de Janeiro. Sua pesquisa é focada na revisitação das paisagens naturais e suas interações com o ser humano. Em “Lugar de Passagem”\, a artista tece simbologias para a passagem do tempo\, em trabalhos que se situam entre a figuração e a abstração.
URL:https://artequeacontece.com.br/evento/lugar-de-passagem-de-laura-villarosa-na-zipper-galeria/
LOCATION:Zipper Galeria\, R. Estados Unidos\, 1494 - Jardim América\, São Paulo\, SP\, Brasil
CATEGORIES:São Paulo
ATTACH;FMTTYPE=image/jpeg:https://artequeacontece.com.br/wp-content/uploads/2024/08/Laura-Villarosa.jpg
END:VEVENT
END:VCALENDAR