BEGIN:VCALENDAR
VERSION:2.0
PRODID:-//Arte Que Acontece - ECPv6.15.20//NONSGML v1.0//EN
CALSCALE:GREGORIAN
METHOD:PUBLISH
X-WR-CALNAME:Arte Que Acontece
X-ORIGINAL-URL:https://artequeacontece.com.br
X-WR-CALDESC:Eventos para Arte Que Acontece
REFRESH-INTERVAL;VALUE=DURATION:PT1H
X-Robots-Tag:noindex
X-PUBLISHED-TTL:PT1H
BEGIN:VTIMEZONE
TZID:America/Sao_Paulo
BEGIN:STANDARD
TZOFFSETFROM:-0300
TZOFFSETTO:-0300
TZNAME:-03
DTSTART:20220101T000000
END:STANDARD
END:VTIMEZONE
BEGIN:VEVENT
DTSTART;TZID=America/Sao_Paulo:20230127T100000
DTEND;TZID=America/Sao_Paulo:20230526T180000
DTSTAMP:20260422T054613
CREATED:20240129T145656Z
LAST-MODIFIED:20240129T145700Z
UID:45875-1674813600-1685124000@artequeacontece.com.br
SUMMARY:"Lugar de estar: o legado Burle Marx" no MAM Rio
DESCRIPTION:O Instituto Burle Marx e o Museu de Arte Moderna do Rio de Janeiro (MAM Rio) anunciam a exposição Lugar de estar: o legado Burle Marx\, que será inaugurada em 27 de janeiro de 2024. A curadoria conjunta de Beatriz Lemos\, curadora-chefe do MAM Rio\, Isabela Ono\, diretora- executiva do Instituto Burle Marx\, e Pablo Lafuente\, diretor artístico do museu carioca\, propõe novas leituras sobre o acervo documental do trabalho de Roberto Burle Marx (1909-1994) e de seus colaboradores\, no escritório onde foram concebidos mais de 2 mil projetos paisagísticos entre os anos 1930 e 1990. \n\n\n\n“Organizamos uma exposição que parte do trabalho do Escritório Burle Marx e nos incita a pensar questões que afetam o presente e futuro de nossas cidades e dos espaços que compartilhamos”\, informa Pablo Lafuente. O direito à cidade\, o ativismo ambiental\, a sociabilidade nos espaços públicos e as espécies botânicas como patrimônio são temas abarcados pelo legado Burle Marx a partir da década de 1930\, que emergem do acervo salvaguardado pelo Instituto desde a sua criação\, em 2019. \n\n\n\n“São sete décadas de contribuição para a sociedade\, discutindo sobre as cidades\, a relação entre seres humanos e natureza\, a importância dos espaços democráticos de convívio social e bem viver”\, afirma Isabela Ono. \n\n\n\nSegundo Beatriz Lemos\, a exposição propõe um olhar contemporâneo “que tem no Parque do Flamengo o mote conceitual que nos leva a outros projetos no Rio de Janeiro\, no Brasil e no exterior. Nos interessa pensar como esses espaços foram ressignificados ao longo do tempo”. \n\n\n\nPaisagista\, artista multifacetado e nome incontornável do modernismo brasileiro\, Roberto Burle Marx foi autor do projeto dos jardins do MAM Rio\, instituição na qual acontece a terceira exposição do Instituto. Para ampliar o diálogo sobre o acervo\, composto por cerca de 150 mil itens\, o discurso curatorial partiu dos temas que surgem de 22 projetos do paisagista e sua equipe. \n\n\n\nEm mil metros quadrados de área expositiva\, a narrativa se constrói a partir de projetos que pensavam cidades\, estudos\, croquis\, desenhos\, fotografias e recortes de jornal somados às obras dos artistas convidados: João Modé\, Luiz Zerbini\, Maria Laet\, Mario Lopes\, Rosana Paulino e Yacunã Tuxá. Os seis foram instigados a reverberar o legado Burle Marx por meio de trabalhos produzidos especialmente para a mostra ou já existentes. \n\n\n\n“A ideia é que esses artistas nos ajudem a explorar temáticas levantadas a partir do diálogo com o acervo”\, comenta Lemos. A curadoria destaca a relevância de reunir um grupo de gerações\, origens e práticas distintas. “É uma amostra dos diferentes caminhos que a obra de Burle Marx faz possíveis”\, sintetiza Pablo Lafuente. \n\n\n\nLugar de estar: o legado Burle Marx reúne cerca de 100 itens\, em uma expografia que remete aos “lugares de estar” criados como espaços públicos pelo paisagista e seus colaboradores\, com áreas de contemplação\, encontro\, experimentação e simplesmente de estar. A mostra conta também com entrevistas em vídeo – algumas do acervo e outras gravadas para a ocasião\, com depoimentos dos colaboradores sobre a experiência de trabalho no Escritório. \n\n\n\nUsar a memória oral na exposição foi uma forma de destacar o caráter coletivo e colaborativo do legado Burle Marx\, segundo Isabela: “Ao longo de sua história\, o Escritório Burle Marx teve o compromisso ético-estético de pensar a coletividade ao construir esses espaços públicos e democráticos. Do croqui ao projeto\, até o jardim executado\, refletem um desejo de utopias de cidades mais verdes e plurais”.
URL:https://artequeacontece.com.br/evento/lugar-de-estar-o-legado-burle-marx-no-mam-rio/
LOCATION:MAM Rio\, 85 Av. Infante Dom Henrique Parque do Flamengo\, Rio de Janeiro\, Rio de Janeiro\, Brasil
CATEGORIES:Rio de Janeiro
ATTACH;FMTTYPE=image/jpeg:https://artequeacontece.com.br/wp-content/uploads/2024/01/Burle-Marx-Praca-Salgado-Filho.jpg
END:VEVENT
END:VCALENDAR