BEGIN:VCALENDAR
VERSION:2.0
PRODID:-//Arte Que Acontece - ECPv6.15.20//NONSGML v1.0//EN
CALSCALE:GREGORIAN
METHOD:PUBLISH
X-WR-CALNAME:Arte Que Acontece
X-ORIGINAL-URL:https://artequeacontece.com.br
X-WR-CALDESC:Eventos para Arte Que Acontece
REFRESH-INTERVAL;VALUE=DURATION:PT1H
X-Robots-Tag:noindex
X-PUBLISHED-TTL:PT1H
BEGIN:VTIMEZONE
TZID:America/Sao_Paulo
BEGIN:STANDARD
TZOFFSETFROM:-0300
TZOFFSETTO:-0300
TZNAME:-03
DTSTART:20230101T000000
END:STANDARD
END:VTIMEZONE
BEGIN:VEVENT
DTSTART;TZID=America/Sao_Paulo:20240927T140000
DTEND;TZID=America/Sao_Paulo:20241123T180000
DTSTAMP:20260422T053648
CREATED:20241015T135428Z
LAST-MODIFIED:20241015T135428Z
UID:58419-1727445600-1732384800@artequeacontece.com.br
SUMMARY:Luciana Rique abre “Sólido Volátil” em seu espaço no Rio de Janeiro
DESCRIPTION:Untitled 5\, Sólido Volátil. Crédito: Luciana Rique\n\n\n\n\nPela primeira vez\, a artista Luciana Rique apresenta diferentes tipos de obras\, além da fotografia\, em uma exposição. “Sólido Volátil” será inaugurada em 27 de setembro\, em seu espaço no Leblon. Com curadoria de Eder Chiodetto e parte do roteiro da ArtRio\, a mostra conta com 31 obras produzidas pela artista em diferentes lugares do mundo. São criações que remetem\, segundo ela\, às situações de “sólido” e “volátil\,” uma contradição que inspira reflexão. \n“Sólido é meu trabalho\, o real\, minha história de vida\, imagens que crio do subconsciente\, de traumas e que formam a base onde encontro forças para reagir. Volátil é a transmutação da arte que criei\, fazendo ela se tornar equilibrada\, a solidez que me oprime\,” relata Luciana. É por meio desse sentimento\, que permeia o coração e a alma da artista\, que ela fala sobre sua exposição\, utilizando também como canal um poema homônimo\, escrito por ela\, que acompanha a mostra. \nElementos como fórmica e vidro\, aplicados sobre as obras\, saem do lugar de proteção e passam a integrar os trabalhos a serem apresentados em “Sólido Volátil.” Vidros jateados criam jogos de luz e sombra que manifestam a volatilidade e a vulnerabilidade desse sólido. Ao mesmo tempo\, uma parte geométrica e mais escura da obra recebe uma placa de fórmica\, recortada de modo cirúrgico para que excessos não se sobreponham à forma original\, dando dimensão e tom às criações. \nPara Eder Chiodetto\, “a fotografia passa a ser objeto\, o vidro se torna obra\, e o reflexo e a opacidade revelam como as luzes incidentais moldam nossa percepção do mundo.” O curador pontua que\, em “Sólido Volátil\,” a artista parte de imagens fotográficas obtidas por meio de uma forma singular de captar vestígios\, encontros de formas\, cadências de luz e texturas que\, em geral\, escapam a um olhar menos atento. Ele complementa\, destacando o uso de novos materiais e formas que a artista traz para essa exibição. “Luciana expande o uso da fotografia\, buscando agora um diálogo das imagens com materiais que criam tensões e distensões no corpo das obras\, resultando em peças nas quais a leveza\, o equilíbrio e um premente estado de fruição sensorial dão a tônica que impulsiona esse desejo de transmutação.” \nEntre os dípticos e polípticos que compõem a mostra\, destaca-se uma escultura nascida a partir de uma fotografia\, outra novidade apresentada por Luciana. A agulha\, que outrora estava apenas impressa em pigmento mineral\, ganha contornos reais e passa a existir enquanto corpo sólido\, dentro de uma caixa de acrílico. Acoplada a um vidro refletante em um dos lados e com uma sutil transparência\, a composição da obra\, que é única\, faz parecer levitar o fino objeto metálico\, centralizado na peça.
URL:https://artequeacontece.com.br/evento/luciana-rique-abre-solido-volatil-em-seu-espaco-no-rio-de-janeiro/
LOCATION:Espaço Luciana Rique\, Rua General Artigas\, 340/301 – Leblon\, Rio de Janeiro\, Brazil
CATEGORIES:Rio de Janeiro
ATTACH;FMTTYPE=image/jpeg:https://artequeacontece.com.br/wp-content/uploads/2024/10/Solido-Volatil-Untitled-5.jpg
END:VEVENT
END:VCALENDAR