BEGIN:VCALENDAR
VERSION:2.0
PRODID:-//Arte Que Acontece - ECPv6.15.20//NONSGML v1.0//EN
CALSCALE:GREGORIAN
METHOD:PUBLISH
X-WR-CALNAME:Arte Que Acontece
X-ORIGINAL-URL:https://artequeacontece.com.br
X-WR-CALDESC:Eventos para Arte Que Acontece
REFRESH-INTERVAL;VALUE=DURATION:PT1H
X-Robots-Tag:noindex
X-PUBLISHED-TTL:PT1H
BEGIN:VTIMEZONE
TZID:America/Sao_Paulo
BEGIN:STANDARD
TZOFFSETFROM:-0300
TZOFFSETTO:-0300
TZNAME:-03
DTSTART:20230101T000000
END:STANDARD
END:VTIMEZONE
BEGIN:VEVENT
DTSTART;TZID=America/Sao_Paulo:20240124T100000
DTEND;TZID=America/Sao_Paulo:20240825T173000
DTSTAMP:20260422T070926
CREATED:20240627T180750Z
LAST-MODIFIED:20240627T180752Z
UID:49518-1706090400-1724607000@artequeacontece.com.br
SUMMARY:"Lucian Freud's Etchings" no V&A Museum
DESCRIPTION:Pluto Aged Twelve\, prova de teste de gravura\, de Lucian Freud\, impressa por Marc Balakjian\, 2000\, Londres\n\n\n\nLucian Freud’s Etchings: A Creative Collaboration é uma exposição que destaca um aspecto menos conhecido da obra do renomado artista britânico do século 20\, Lucian Freud. Mais conhecido por suas pinturas figurativas\, Freud também produziu muitas gravuras\, muitas vezes retratando os mesmos temas e modelos de suas pinturas. A mostra apresenta 38 dessas impressões intricadas e íntimas\, explorando a prática de gravura de Freud. \n\n\n\nEsta coleção\, adquirida em 2019\, inclui provas nunca antes exibidas que oferecem novas perspectivas sobre o processo criativo do artista e sua abordagem distinta à gravura. Entre os destaques estão retratos de figuras como Leigh Bowery e estudos de seu cão de estimação\, além do único autorretrato gravado de Freud. A exposição\, gratuita\, fica em exibição até 25 de agosto de 2024.
URL:https://artequeacontece.com.br/evento/lucian-freuds-etchings-no-va-museum/
LOCATION:Victoria and Albert Museum (V&A)\, Cromwell Rd\, Londres\, Reino unido
CATEGORIES:Londres
ATTACH;FMTTYPE=image/jpeg:https://artequeacontece.com.br/wp-content/uploads/2024/06/Pluto-Aged-Twelve-trial-proof-etching-by-Lucian-Freud-printed-by-Marc-Balakjian-2000-London.jpg
END:VEVENT
END:VCALENDAR