BEGIN:VCALENDAR
VERSION:2.0
PRODID:-//Arte Que Acontece - ECPv6.15.20//NONSGML v1.0//EN
CALSCALE:GREGORIAN
METHOD:PUBLISH
X-WR-CALNAME:Arte Que Acontece
X-ORIGINAL-URL:https://artequeacontece.com.br
X-WR-CALDESC:Eventos para Arte Que Acontece
REFRESH-INTERVAL;VALUE=DURATION:PT1H
X-Robots-Tag:noindex
X-PUBLISHED-TTL:PT1H
BEGIN:VTIMEZONE
TZID:America/Sao_Paulo
BEGIN:STANDARD
TZOFFSETFROM:-0300
TZOFFSETTO:-0300
TZNAME:-03
DTSTART:20230101T000000
END:STANDARD
END:VTIMEZONE
BEGIN:VEVENT
DTSTART;TZID=America/Sao_Paulo:20240502T100000
DTEND;TZID=America/Sao_Paulo:20240615T180000
DTSTAMP:20260422T101807
CREATED:20240507T214336Z
LAST-MODIFIED:20240507T214338Z
UID:48580-1714644000-1718474400@artequeacontece.com.br
SUMMARY:"Lucas Arruda: Assum Preto" na David Zwirner
DESCRIPTION:Lucas Arruda\, Sem título (da série Deserto-Modelo) (detalhe)\, 2024\n\n\n\nDavid Zwirner tem o prazer de apresentar novas obras do artista brasileiro Lucas Arruda\, em exibição na localização da galeria na West 20th Street\, em Nova York. Arruda é conhecido por suas composições intricadas e meditativas que borram as fronteiras entre registros mnemônicos e imaginativos. Suas paisagens evocativas são mais produtos de um estado mental do que representações de locais específicos. Como ele observou: “A única razão para chamar minhas obras de paisagens é cultural – simplesmente porque os espectadores automaticamente reconhecem meu formato como uma paisagem\, embora nenhuma das imagens possa ser rastreada até um local geográfico. É a ideia de paisagem como uma estrutura\, em vez de um lugar real.” \n\n\n\nA exposição inclui pinturas e uma instalação de luz específica do local de sua série contínua Deserto-Modelo\, marcando a quarta apresentação solo do artista na galeria.
URL:https://artequeacontece.com.br/evento/lucas-arruda-assum-preto-na-david-zwirner/
LOCATION:David Zwirner\, 537 West 20th Street\, Nova York\, Nova York\, Estados Unidos
CATEGORIES:Nova York
ATTACH;FMTTYPE=image/jpeg:https://artequeacontece.com.br/wp-content/uploads/2024/05/Lucas-Arruda-Untitled-from-the-Deserto-Modelo-series-2024.jpg
END:VEVENT
END:VCALENDAR