BEGIN:VCALENDAR
VERSION:2.0
PRODID:-//Arte Que Acontece - ECPv6.15.20//NONSGML v1.0//EN
CALSCALE:GREGORIAN
METHOD:PUBLISH
X-WR-CALNAME:Arte Que Acontece
X-ORIGINAL-URL:https://artequeacontece.com.br
X-WR-CALDESC:Eventos para Arte Que Acontece
REFRESH-INTERVAL;VALUE=DURATION:PT1H
X-Robots-Tag:noindex
X-PUBLISHED-TTL:PT1H
BEGIN:VTIMEZONE
TZID:America/Sao_Paulo
BEGIN:STANDARD
TZOFFSETFROM:-0300
TZOFFSETTO:-0300
TZNAME:-03
DTSTART:20230101T000000
END:STANDARD
END:VTIMEZONE
BEGIN:VEVENT
DTSTART;TZID=America/Sao_Paulo:20240115T110000
DTEND;TZID=America/Sao_Paulo:20240428T170000
DTSTAMP:20260422T084631
CREATED:20240202T203812Z
LAST-MODIFIED:20240202T203819Z
UID:46065-1705316400-1714323600@artequeacontece.com.br
SUMMARY:"Long Story Short" no MOCA Grand Avenue
DESCRIPTION:Long Story Short apresenta obras de arte que datam dos anos 1940 até os dias atuais\, selecionadas a partir da coleção em constante crescimento do MOCA\, que inclui mais de 7.500 objetos e é reconhecida mundialmente. A exposição demonstra as inúmeras maneiras pelas quais artistas contemporâneos abordaram questões estéticas\, políticas e filosóficas nos últimos setenta e cinco anos\, seja inovando em novas formas de arte abstrata\, comemorando amores e perdas\, repensando as convenções da retratística ou desafiando o status secundário da arte popular. Ao exibir obras amplamente reconhecidas como marcos da coleção do museu junto com peças menos conhecidas\, aquisições recentes e obras que nunca foram exibidas anteriormente no MOCA\, Long Story Short nos lembra que a história da arte e a história de forma mais ampla são feitas no presente. \n\n\n\nLong Story Short é organizada por Anna Katz\, Curadora\, com a colaboração de Paula Kroll e Emilia Nicholson-Fajardo\, Assistentes de Curadoria\, do Museu de Arte Contemporânea\, Los Angeles.
URL:https://artequeacontece.com.br/evento/long-story-short-no-moca-grand-avenue/
LOCATION:MOCA Grand Avenue\, 250 South Grand Avenue Los Angeles\, Los Angeles\, Califórnia\, Estados Unidos
CATEGORIES:Los Angeles
ATTACH;FMTTYPE=image/jpeg:https://artequeacontece.com.br/wp-content/uploads/2024/02/Patrick-Martinez-Struggle-and-Progress-Frederick-Douglass-2018.jpg
END:VEVENT
END:VCALENDAR