BEGIN:VCALENDAR
VERSION:2.0
PRODID:-//Arte Que Acontece - ECPv6.15.20//NONSGML v1.0//EN
CALSCALE:GREGORIAN
METHOD:PUBLISH
X-WR-CALNAME:Arte Que Acontece
X-ORIGINAL-URL:https://artequeacontece.com.br
X-WR-CALDESC:Eventos para Arte Que Acontece
REFRESH-INTERVAL;VALUE=DURATION:PT1H
X-Robots-Tag:noindex
X-PUBLISHED-TTL:PT1H
BEGIN:VTIMEZONE
TZID:America/Sao_Paulo
BEGIN:STANDARD
TZOFFSETFROM:-0300
TZOFFSETTO:-0300
TZNAME:-03
DTSTART:20240101T000000
END:STANDARD
END:VTIMEZONE
BEGIN:VEVENT
DTSTART;TZID=America/Sao_Paulo:20250429T100000
DTEND;TZID=America/Sao_Paulo:20250614T180000
DTSTAMP:20260422T071710
CREATED:20250428T194714Z
LAST-MODIFIED:20250428T194714Z
UID:62279-1745920800-1749924000@artequeacontece.com.br
SUMMARY:"Logo as sombras desaparecem" de Philippe Decrauzat na Nara Roesler
DESCRIPTION:Philippe Decrauzat\, “Screen (flash-back)”\, 2024 © Rebecca Fanuele\nNara Roesler Rio de Janeiro apresenta\, no dia 29 de abril  de 2025\, às 18h\, para a abertura da exposição “Logo as sombras desaparecem”\, com obras recentes e inéditas do artista suíço Philippe Decrauzat\, nascido em 1974 em Lausanne\, um dos principais nomes da nova geração da arte óptica e cinética. Vivendo entre sua cidade natal e Paris\, seu trabalho integra numerosas coleções institucionais na Suíça e na França\, além de estar no MoMA de Nova York e no MACBA\, em Buenos Aires. Às 19h\, haverá uma visita guiada com o artista. \nNo dia 30 de abril\, às 18h30\, será exibido na Cinemateca do MAM o filme “Gradient” (2021)\, em que Decrauzat aborda as propriedades da luz no cinema a partir de um filme canônico: “Aurora” (1927)\, do cineasta alemão Friedrich Wilhelm Murnau. Nesta apresentação única na Cinemateca do MAM\, Philippe Decrauzat conversará  com Jonathan Pouthier\, responsável pela coleção e programação de filmes do Centre Pompidou\, em Paris. \nNa Nara Roesler Rio de Janeiro\, estarão 18 pinturas em acrílica sobre tela\, das quais treze criadas por Decrauzat especialmente para a exposição. Cinco obras – também nunca vistas no Brasil – foram mostradas em individuais do artista em Genebra\, Madri e Salzburg\, em 2024. Os trabalhos pertencem a duas séries – “Screen” e “Gradient”\, desdobramentos de sua pesquisa sobre percepção visual. \nO título da exposição tem origem nos estudos realizados pelo médico e cientista tcheco Jan Purkyne (1787-1869) na década de 1820 sobre a anatomia e a fisiologia do olho humano.  Decrauzat se interessa particularmente pelas descobertas de Purkyne sobre o fosfenos\, fenômeno visual caracterizado pela percepção de flashes ou manchas de luz gerados por estímulos internos\, como pressionar as pálpebras fechadas. \nNa série “Screen”\, Philippe Decrauzat faz alusão tanto à tela digital e às imagens virtuais presentes em nosso cotidiano\, como aos fosfenos. A ideia é tratar a tela como uma superfície que produz brilho\, seja ela um monitor\, seja um olho. Seus trabalhos discutem a cultura visual contemporânea\, o mundo pop\, o cinema\, a tecnologia e a ciência. \nPhilippe Decrauzat afirma: “O observador está sempre no centro de meus dispositivos”.
URL:https://artequeacontece.com.br/evento/logo-as-sombras-desaparecem-de-philippe-decrauzat-na-nara-roesler/
LOCATION:Nara Roesler  Rio de Janeiro\, R. Redentor\, 241 - Ipanema\, Rio de Janeiro - RJ\, Rio de Janeiro\, Rio de Janeiro\, Brasil
CATEGORIES:Rio de Janeiro
ATTACH;FMTTYPE=image/jpeg:https://artequeacontece.com.br/wp-content/uploads/2025/04/57217-Philippe-Decrauzat-Screen-flash-back-2024_Rebecca-Fanuele_low_01-1.jpg
END:VEVENT
END:VCALENDAR