BEGIN:VCALENDAR
VERSION:2.0
PRODID:-//Arte Que Acontece - ECPv6.15.20//NONSGML v1.0//EN
CALSCALE:GREGORIAN
METHOD:PUBLISH
X-WR-CALNAME:Arte Que Acontece
X-ORIGINAL-URL:https://artequeacontece.com.br
X-WR-CALDESC:Eventos para Arte Que Acontece
REFRESH-INTERVAL;VALUE=DURATION:PT1H
X-Robots-Tag:noindex
X-PUBLISHED-TTL:PT1H
BEGIN:VTIMEZONE
TZID:America/Sao_Paulo
BEGIN:STANDARD
TZOFFSETFROM:-0300
TZOFFSETTO:-0300
TZNAME:-03
DTSTART:20220101T000000
END:STANDARD
END:VTIMEZONE
BEGIN:VEVENT
DTSTART;TZID=America/Sao_Paulo:20230424T100000
DTEND;TZID=America/Sao_Paulo:20231015T180000
DTSTAMP:20260422T073930
CREATED:20230517T184320Z
LAST-MODIFIED:20230517T184323Z
UID:40745-1682330400-1697392800@artequeacontece.com.br
SUMMARY:"Living and Made" instalação pública de Philip Lique
DESCRIPTION:The Windows Project é uma colaboração entre o The Bass Art Museum e a Bakehouse Art Complex. Living and Made é uma instalação pública de 28 metros de comprimento\, criada pelo artista Philip Lique\, que explora as relações intrínsecas entre materiais e o ato intencional e improvisado de “fazer”. Referenciando e repensando elementos de vitrines de lojas\, cenários teatrais e arranjos tradicionais de natureza-morta\, Living and Made é uma combinação de esculturas\, papéis de parede\, pinturas\, objetos prontos\, produtos da Walgreens e plantas de cactos vivas. A exibição maximalista de Lique considera como seres vivos e objetos fabricados se regeneram para formar extensões de si mesmos\, criando algo completamente novo e inesperado no processo. A instalação serve tanto como um ambiente prático para a propagação e crescimento de cactos\, quanto como um espaço para Lique experimentar a criação de peças únicas\, com componentes individuais provenientes e recuperados de seus trabalhos anteriores. Living and Made trata do impulso artístico de se adaptar e revisar\, conectando a evolução de ideias com o aumento gradual (e potencialmente inevitável) da quantidade (e qualidade) de objetos. Uma série limitada de “relatórios de condição” em NFTs (tokens não fungíveis) consistirá em varreduras 3D de 360 graus de estruturas selecionadas\, servindo como um registro do estado físico original da exposição. Após meses de exposição contínua ao sol e ao calor da Flórida\, que alimentará o crescimento de novos ramos de cactos ao mesmo tempo em que causará o desbotamento incremental e a deterioração da obra de arte\, os NFTs serão um testemunho de como a instalação mudou e evoluiu ao longo do tempo. Living and Made busca proporcionar um ponto de entrada para testemunhar o ciclo de vida de elementos naturais e manufaturados\, incentivando investigação e envolvimento público repetidos.
URL:https://artequeacontece.com.br/evento/living-and-made-instalacao-publica-de-philip-lique/
LOCATION:Walgreens Storefront\, 23rd Street and Collins Avenue\, Miami\, Flórida\, Estados Unidos
CATEGORIES:Miami
ATTACH;FMTTYPE=image/jpeg:https://artequeacontece.com.br/wp-content/uploads/2023/05/345574615_626108842390953_4346671637115328023_n-1.jpg
END:VEVENT
END:VCALENDAR