BEGIN:VCALENDAR
VERSION:2.0
PRODID:-//Arte Que Acontece - ECPv6.15.20//NONSGML v1.0//EN
CALSCALE:GREGORIAN
METHOD:PUBLISH
X-WR-CALNAME:Arte Que Acontece
X-ORIGINAL-URL:https://artequeacontece.com.br
X-WR-CALDESC:Eventos para Arte Que Acontece
REFRESH-INTERVAL;VALUE=DURATION:PT1H
X-Robots-Tag:noindex
X-PUBLISHED-TTL:PT1H
BEGIN:VTIMEZONE
TZID:America/Sao_Paulo
BEGIN:STANDARD
TZOFFSETFROM:-0300
TZOFFSETTO:-0300
TZNAME:-03
DTSTART:20230101T000000
END:STANDARD
END:VTIMEZONE
BEGIN:VEVENT
DTSTART;TZID=America/Sao_Paulo:20240224T090000
DTEND;TZID=America/Sao_Paulo:20240504T180000
DTSTAMP:20260422T073546
CREATED:20240227T160325Z
LAST-MODIFIED:20240227T160329Z
UID:46757-1708765200-1714845600@artequeacontece.com.br
SUMMARY:"Live(s) on Air" de Tomás Saraceno na Tanya Bonakdar Gallery
DESCRIPTION:Tomás Saraceno\, Vista da instalação ‘Live(s) on Air’ na Tanya Bonakdar Gallery\, 2024. Foto: Jeff McLane\n\n\n\nA Tanya Bonakdar Gallery tem o prazer de apresentar Live(s) on Air\, uma exposição individual de novas obras de Tomás Saraceno\, em exibição em Los Angeles de 24 de fevereiro a 4 de maio de 2024. Ao longo da exposição\, Saraceno convida os participantes a uma meditação sobre formas de vida e formação de vida que moldam as possibilidades de interdependência eco-social. Através de uma entrelaçamento de corpos e forças elementares\, a exposição revela as dinâmicas materiais e imateriais que caracterizam a desigualdade e injustiça antropocêntricas do presente. Através de esculturas\, obras em papel e filmes\, a exposição propõe novos movimentos para a coabitação e o ser na Terra hoje.
URL:https://artequeacontece.com.br/evento/lives-on-air-de-tomas-saraceno-na-tanya-bonakdar-gallery/
LOCATION:Tanya Bonakdar Gallery\, 1010 N Highland Ave\, Los Angeles\, Califórnia\, Estados Unidos
CATEGORIES:Los Angeles
ATTACH;FMTTYPE=image/jpeg:https://artequeacontece.com.br/wp-content/uploads/2024/02/tomas-saraceno.jpg
END:VEVENT
END:VCALENDAR