BEGIN:VCALENDAR
VERSION:2.0
PRODID:-//Arte Que Acontece - ECPv6.15.20//NONSGML v1.0//EN
CALSCALE:GREGORIAN
METHOD:PUBLISH
X-WR-CALNAME:Arte Que Acontece
X-ORIGINAL-URL:https://artequeacontece.com.br
X-WR-CALDESC:Eventos para Arte Que Acontece
REFRESH-INTERVAL;VALUE=DURATION:PT1H
X-Robots-Tag:noindex
X-PUBLISHED-TTL:PT1H
BEGIN:VTIMEZONE
TZID:America/Sao_Paulo
BEGIN:STANDARD
TZOFFSETFROM:-0300
TZOFFSETTO:-0300
TZNAME:-03
DTSTART:20220101T000000
END:STANDARD
END:VTIMEZONE
BEGIN:VEVENT
DTSTART;TZID=America/Sao_Paulo:20231010T100000
DTEND;TZID=America/Sao_Paulo:20231118T180000
DTSTAMP:20260422T073419
CREATED:20231005T205224Z
LAST-MODIFIED:20231005T205229Z
UID:44153-1696932000-1700330400@artequeacontece.com.br
SUMMARY:"Liu Ye: Naive and Sentimental Painting" na David Zwirner Londres
DESCRIPTION:David Zwirner apresenta uma exposição de novas obras do artista chinês Liu Ye (nascido em 1964)\, em exibição na galeria de Londres. Esta será a segunda apresentação individual do artista na galeria e a primeira vez que seu trabalho é exibido em Londres desde 2002. \n\n\n\nNa exposição – cujo título faz referência lúdica à sinfonia “Naïve and Sentimental Music” de John Adams\, de 1999\, que por sua vez alude ao ensaio sobre teoria poética de Friedrich Schiller de 1795-1796 – Liu examina o legado artístico da retratística e as possibilidades e nuances formais da superfície pintada\, demonstrando uma sofisticação técnica que rivaliza com a precisão na pincelada e na manipulação da tinta dos antigos mestres europeus\, como Jan van Eyck e Antonello da Messina. Em um conjunto de telas fortemente iluminadas e de escala íntima\, Liu captura algumas de suas influências artísticas e literárias mais duradouras – como Jorge Luis Borges\, Vladimir Nabokov e Miffy\, o coelho de desenho animado – bem como close-ups semelhantes a retratos de flores das fotografias de Karl Blossfeldt\, ao mesmo tempo em que lança um olhar amplo e meta-referencial sobre seu próprio corpo de trabalho pintado. Refinadas e minuciosamente detalhadas em sua feitura\, as obras em exibição apresentam uma nova abordagem na prática de Liu em direção a uma forma de retratística que é meticulosa\, mas multivalente\, introspectiva\, mas expansiva.
URL:https://artequeacontece.com.br/evento/liu-ye-naive-and-sentimental-painting-na-david-zwirner-londres/
LOCATION:David Zwirner\, 24 Grafton St London\, Londres\, Inglaterra\, Reino unido
CATEGORIES:Londres
ATTACH;FMTTYPE=image/jpeg:https://artequeacontece.com.br/wp-content/uploads/2023/10/cf043219_studio_new-1-1.jpg
END:VEVENT
END:VCALENDAR