BEGIN:VCALENDAR
VERSION:2.0
PRODID:-//Arte Que Acontece - ECPv6.15.20//NONSGML v1.0//EN
CALSCALE:GREGORIAN
METHOD:PUBLISH
X-WR-CALNAME:Arte Que Acontece
X-ORIGINAL-URL:https://artequeacontece.com.br
X-WR-CALDESC:Eventos para Arte Que Acontece
REFRESH-INTERVAL;VALUE=DURATION:PT1H
X-Robots-Tag:noindex
X-PUBLISHED-TTL:PT1H
BEGIN:VTIMEZONE
TZID:America/Sao_Paulo
BEGIN:STANDARD
TZOFFSETFROM:-0300
TZOFFSETTO:-0300
TZNAME:-03
DTSTART:20220101T000000
END:STANDARD
END:VTIMEZONE
BEGIN:VEVENT
DTSTART;TZID=America/Sao_Paulo:20230909T100000
DTEND;TZID=America/Sao_Paulo:20231021T180000
DTSTAMP:20260422T072553
CREATED:20230909T135639Z
LAST-MODIFIED:20230909T135644Z
UID:43844-1694253600-1697911200@artequeacontece.com.br
SUMMARY:"Lichtenstein Remembered" na Gagosian
DESCRIPTION:A Gagosian apresenta Lichtenstein Remembered\, uma exposição de esculturas e estudos relacionados de Roy Lichtenstein\, com curadoria de Irving Blum\, em reconhecimento ao centenário do nascimento do artista. A exposição é organizada em estreita colaboração com o Estate de Roy Lichtenstein e com design de exposição de Bill Katz. Esta é a primeira exposição de galeria dedicada à escultura de Lichtenstein desde a pesquisa apresentada em Londres e Nova York em 2005. Para criar os desenhos miraculosos no espaço que constituem seu trabalho escultural\, Lichtenstein empregou uma variedade de estratégias visuais familiares de sua pintura e gravura. Representando óculos\, lâmpadas\, espelhos e objetos móveis\, bem como cabeças de retrato e explosões estilizadas\, ele produziu esculturas espirituosas e sedutoras no estilo da Pop art\, do qual ele foi um dos pioneiros. Fazendo referência à sua adaptação da mídia impressa popular em geral e da ilustração de quadrinhos em particular\, as obras em exibição em Nova York evocam as inovações estilísticas e conceituais de artistas como Matisse e Picasso.
URL:https://artequeacontece.com.br/evento/lichtenstein-remembered-na-gagosian/
LOCATION:Gagosian\, 976 Madison Ave Manhattan\, Nova York\, Nova York\, Estados Unidos
CATEGORIES:Nova York
ATTACH;FMTTYPE=image/jpeg:https://artequeacontece.com.br/wp-content/uploads/2023/09/LICHT_1977.Cup_and_Saucer_II_ALT_1-1-1.jpg
END:VEVENT
END:VCALENDAR