BEGIN:VCALENDAR
VERSION:2.0
PRODID:-//Arte Que Acontece - ECPv6.15.20//NONSGML v1.0//EN
CALSCALE:GREGORIAN
METHOD:PUBLISH
X-WR-CALNAME:Arte Que Acontece
X-ORIGINAL-URL:https://artequeacontece.com.br
X-WR-CALDESC:Eventos para Arte Que Acontece
REFRESH-INTERVAL;VALUE=DURATION:PT1H
X-Robots-Tag:noindex
X-PUBLISHED-TTL:PT1H
BEGIN:VTIMEZONE
TZID:America/Sao_Paulo
BEGIN:STANDARD
TZOFFSETFROM:-0300
TZOFFSETTO:-0300
TZNAME:-03
DTSTART:20230101T000000
END:STANDARD
END:VTIMEZONE
BEGIN:VEVENT
DTSTART;TZID=America/Sao_Paulo:20240705T100000
DTEND;TZID=America/Sao_Paulo:20241117T180000
DTSTAMP:20260422T091108
CREATED:20240704T150205Z
LAST-MODIFIED:20240704T150208Z
UID:49582-1720173600-1731866400@artequeacontece.com.br
SUMMARY:"Lia D Castro: em todo e nenhum lugar" no MASP
DESCRIPTION:Lia D Castro\, Sem título (detalhe)\, da série Axs nossxs pais\, natureza morta\, 2021. Galeria Martins&Montero\, São Paulo\, Brasil\, e Bruxelas\, Bélgica. Foto: Lucas Cruz/Instituto Çarê\n\n\n\nÉ impossível refletir sobre a obra da artista e intelectual Lia D Castro (Martinópolis\, São Paulo\, 1978) sem falar de encontros\, contrastes\, fricções e transformações. A partir de 5 de julho\, o público pode encontrar a exposição Lia D Castro: em todo e nenhum lugar\, no MASP – Museu de Arte de São Paulo Assis Chateaubriand. A primeira mostra individual da artista em um museu reúne 36 trabalhos\, sendo a maioria pinturas de caráter figurativo. As obras selecionadas exploram cenários onde o afeto\, o diálogo e a imaginação se tornam importantes ferramentas de transformação social.  \n\n\n\nO título da exposição parte da constatação da ausência histórica de grupos minorizados em posições de poder e decisão — em nenhum lugar —\, enquanto sua presença e força de trabalho compõem as bases que sustentam a sociedade — em todo lugar. Com curadoria de Isabella Rjeille\, curadora\, MASP\, e Glaucea Helena de Britto\, curadora assistente\, MASP\, a mostra apresenta trabalhos que abrangem toda a produção da artista. \n\n\n\nLia D Castro utiliza a prostituição como ferramenta de pesquisa e desenvolve sua produção a partir de encontros com seus clientes – homens cisgêneros\, em sua maioria brancos\, heterossexuais\, de classe média e alta – para subverter relações de poder ou violência que possam surgir entre eles\, aliando história de vida e história social. Temas como masculinidade e branquitude\, mas também afeto\, cuidado e responsabilidade\, são abordados nessas ocasiões e resultam em pinturas\, gravuras\, desenhos\, fotografias e instalações criadas de modo colaborativo. \n\n\n\nNesses momentos\, ela conversa com esses homens e os convida a refletir: quando você se percebeu branco? E quando se descobriu cisgênero\, heterossexual? “Perguntas sobre as quais a artista não busca uma resposta definitiva\, mas sim provocar um posicionamento dentro do debate racial\, sobre gênero e sexualidade”\, afirma a curadora Isabella Rjeille. \n\n\n\nAs conversas de Lia D Castro com esses homens são permeadas por referências a importantes intelectuais negros como Frantz Fanon\, Toni Morrison\, Conceição Evaristo e bell hooks. Frases retiradas dos livros desses autores\, lidos pela artista na companhia de seus colaboradores\, são inseridas nas telas e misturam-se aos gestos\, cenas\, cores e personagens. O trabalho de Lia D Castro torna-se um lugar de encontro\, embate e fricção\, no qual ações\, imagens e imaginários são debatidos\, revistos e transformados. Com frequência\, a artista insere referências a outros trabalhos por ela realizados\, incluindo-os em outro contexto e\, consequentemente\, atribuindo novos significados e leituras a essas imagens. \n\n\n\n“Partindo da visão de Frantz Fanon de que o racismo é uma repetição\, eu proponho combatê-lo com a repetição de imagens. Como a imagem constrói cultura e memória\, ao colocar uma obra dentro da outra\, busco criar novas referências estéticas”\, comenta a artista.
URL:https://artequeacontece.com.br/evento/lia-d-castro-em-todo-e-nenhum-lugar-no-masp/
LOCATION:MASP – Museu de Arte de São Paulo Assis Chateaubriand\, Avenida Paulista\, 1578 - Bela Vista\, São Paulo\, SP\, Brasil
CATEGORIES:São Paulo
ATTACH;FMTTYPE=image/jpeg:https://artequeacontece.com.br/wp-content/uploads/2024/07/Lia-D-Castro-Sem-titulo-Untitled-da-serie-from-the-series-Axs-nossxs-pais-natureza-morta-To-Our-Parents-Still-Life-2021-2.jpg
END:VEVENT
END:VCALENDAR