BEGIN:VCALENDAR
VERSION:2.0
PRODID:-//Arte Que Acontece - ECPv6.15.20//NONSGML v1.0//EN
CALSCALE:GREGORIAN
METHOD:PUBLISH
X-WR-CALNAME:Arte Que Acontece
X-ORIGINAL-URL:https://artequeacontece.com.br
X-WR-CALDESC:Eventos para Arte Que Acontece
REFRESH-INTERVAL;VALUE=DURATION:PT1H
X-Robots-Tag:noindex
X-PUBLISHED-TTL:PT1H
BEGIN:VTIMEZONE
TZID:America/Sao_Paulo
BEGIN:STANDARD
TZOFFSETFROM:-0300
TZOFFSETTO:-0300
TZNAME:-03
DTSTART:20230101T000000
END:STANDARD
END:VTIMEZONE
BEGIN:VEVENT
DTSTART;TZID=America/Sao_Paulo:20240402T110000
DTEND;TZID=America/Sao_Paulo:20240914T190000
DTSTAMP:20260422T054751
CREATED:20240607T142320Z
LAST-MODIFIED:20240607T142323Z
UID:49162-1712055600-1726340400@artequeacontece.com.br
SUMMARY:"L'Euphorie de la couleur" de Carlos Cruz-Diez na Galleria Continua Paris
DESCRIPTION:Carlos Cruz-Diez – L’Euphorie de la couleur 2024. Vista da exposição GALLERIA CONTINUA\, Paris. Foto: Hafid Lhachmi. © Carlos Cruz-Diez / Bridgeman Images 2024\n\n\n\nA GALLERIA CONTINUA tem o prazer de apresentar em seu espaço parisiense a primeira exposição individual do artista franco-venezuelano Carlos Cruz-Diez. Figura importante da arte contemporânea e pioneiro da arte cinética (1923-2019)\, Cruz-Diez é um mestre indiscutível da cor. Ao longo de sua carreira\, ele experimentou e desenvolveu um grande número de propostas que permaneceram emblemáticas de sua linguagem artística. Em sintonia com as profundas mudanças sociais ao seu redor\, dedicou-se a inventar um novo corpo de trabalho\, explorando técnicas e tecnologias não convencionais que desempenhariam um papel decisivo em sua abordagem. Carlos Cruz-Diez tinha trinta e sete anos quando\, em 1960\, decidiu deixar Caracas e mudar-se para Paris com sua família. Após estudar na Académie des Beaux-Arts e um longo período como ilustrador\, escolheu a vibrante cena cultural de Paris para continuar sua investigação das dinâmicas perceptivo-sensoriais. “L’Euphorie de la couleur” [A Euforia da Cor] apresenta os destaques da carreira artística de Carlos Cruz-Diez\, explorando sua teoria da cor por meio de algumas de suas obras mais emblemáticas.
URL:https://artequeacontece.com.br/evento/leuphorie-de-la-couleur-de-carlos-cruz-diez-na-galleria-continua-paris/
LOCATION:Galleria Continua Paris\, 87 rue du Temple\, Paris\, França
CATEGORIES:Paris
ATTACH;FMTTYPE=image/jpeg:https://artequeacontece.com.br/wp-content/uploads/2024/06/Carlos-Cruz-Diez-L_Euphorie_de_la_couleur_2024-11-1.jpg
END:VEVENT
END:VCALENDAR