BEGIN:VCALENDAR
VERSION:2.0
PRODID:-//Arte Que Acontece - ECPv6.15.20//NONSGML v1.0//EN
CALSCALE:GREGORIAN
METHOD:PUBLISH
X-WR-CALNAME:Arte Que Acontece
X-ORIGINAL-URL:https://artequeacontece.com.br
X-WR-CALDESC:Eventos para Arte Que Acontece
REFRESH-INTERVAL;VALUE=DURATION:PT1H
X-Robots-Tag:noindex
X-PUBLISHED-TTL:PT1H
BEGIN:VTIMEZONE
TZID:America/Sao_Paulo
BEGIN:STANDARD
TZOFFSETFROM:-0300
TZOFFSETTO:-0300
TZNAME:-03
DTSTART:20230101T000000
END:STANDARD
END:VTIMEZONE
BEGIN:VEVENT
DTSTART;TZID=America/Sao_Paulo:20240507T100000
DTEND;TZID=America/Sao_Paulo:20240608T190000
DTSTAMP:20260419T123254
CREATED:20240507T140720Z
LAST-MODIFIED:20240507T140723Z
UID:48541-1715076000-1717873200@artequeacontece.com.br
SUMMARY:"Leste do Éden" na Millan
DESCRIPTION:Pedro Figari\, Pericón bajo los ombúes\, c. 1930\n\n\n\nA exposição Leste do Éden aborda o sentimento de exílio transfigurado nas pinturas de Júlio Martins da Silva (1893\, Icaraí\, RJ – 1978\, Rio de Janeiro\, RJ)\, Paulo Pasta (1959\, Ariranha\, SP) e Pedro Figari (1861–1938\, Montevidéu\, Uruguai). Com curadoria de Antonio Gonçalves Filho\, a coletiva acontece simultaneamente nas galerias Millan e Estação\, ambas em Pinheiros\, São Paulo\, a partir de 7 de maio. \n\n\n\nLeste do Éden é uma referência a Nod\, território bíblico habitado por Caim após matar seu irmão Abel. Viver em Nod\, “a leste do Éden”\, seria\, portanto\, uma espécie de punição\, explica o curador. Nesse sentido\, a sobrevivência às diferentes formas simbólicas de exílio é um traço que marca as paisagens que compõem a exposição — algumas vezes idílicas\, caso das telas de Júlio\, outras vezes alegóricas\, como nas pinturas de Figari\, ou atmosféricas\, caso das criações que remetem à memória afetiva de Pasta. \n\n\n\n“As exposições\, simultâneas\, foram pensadas para que cada um dos aspectos mencionados sobre a pintura dos três artistas possa ser conferido com a associação imediata da ligação entre eles”\, explica Gonçalves Filho. “De certo modo\, Figari\, um brilhante advogado e escritor que foi amigo de Bonnard\, Marquet\, Léger e Picasso nos anos 1930\, em busca da sua identidade latina em Paris\, foi buscar no passado uruguaio elementos para entender o presente modernizador da França pós-impressionista\, assim como Pasta\, que teve igualmente contato com os mais brilhantes pintores\, especialmente Iberê Camargo\, e tenta construir uma paisagem contemporânea sem renegar as origens e a tradição pictórica. Júlio\, que começou a vida na roça\, logo procurou um professor quando começou a pintar\, aos 29 anos de idade\, adotou o culto luterano e aprendeu a ler só para ter acesso à grande poesia e reconstruir o paraíso a seu modo. A ligação dos três pintores com a literatura é visível nas duas exposições. Ambas se complementam com obras que formam uma suíte em que cada pintura autônoma acaba formando esse grande painel poético sobre a paisagem”\, conclui Gonçalves Filho. \n\n\n\nEsta é a segunda mostra em parceria das duas galerias —em 2014\, Millan e Estação organizaram a coletiva Quase Figura\, Quase Forma\, com curadoria de Lorenzo Mammì. Leste do Éden também conta com a colaboração da Galería Sur\, de Punta del Este\, que gentilmente emprestou as obras de Pedro Figari na exposição.
URL:https://artequeacontece.com.br/evento/leste-do-eden-na-millan/
LOCATION:Almeida & Dale\, Rua Fradique Coutinho 1360/1430\, São Paulo\, SP
CATEGORIES:São Paulo
ATTACH;FMTTYPE=image/jpeg:https://artequeacontece.com.br/wp-content/uploads/2024/05/Pedro-Figari-Pericon-bajo-los-ombues-1930-Oleo-sobre-cartao-Foto-Cortesia-Galeria-Sur.jpg
END:VEVENT
END:VCALENDAR