BEGIN:VCALENDAR
VERSION:2.0
PRODID:-//Arte Que Acontece - ECPv6.15.20//NONSGML v1.0//EN
CALSCALE:GREGORIAN
METHOD:PUBLISH
X-WR-CALNAME:Arte Que Acontece
X-ORIGINAL-URL:https://artequeacontece.com.br
X-WR-CALDESC:Eventos para Arte Que Acontece
REFRESH-INTERVAL;VALUE=DURATION:PT1H
X-Robots-Tag:noindex
X-PUBLISHED-TTL:PT1H
BEGIN:VTIMEZONE
TZID:America/Sao_Paulo
BEGIN:STANDARD
TZOFFSETFROM:-0300
TZOFFSETTO:-0300
TZNAME:-03
DTSTART:20240101T000000
END:STANDARD
END:VTIMEZONE
BEGIN:VEVENT
DTSTART;TZID=America/Sao_Paulo:20251002T100000
DTEND;TZID=America/Sao_Paulo:20251005T180000
DTSTAMP:20260419T122455
CREATED:20251010T152301Z
LAST-MODIFIED:20251017T185351Z
UID:65508-1759399200-1759687200@artequeacontece.com.br
SUMMARY:"Lee Miller" no Tate Britain Museum
DESCRIPTION:Lee Miller. Fire Masks\, Downside Hill\, London. 1941. Cortesia do Tate Britain Museum.\nUma grande exposição da pioneira fotógrafa surrealista Lee Miller. \nCom a mais extensa retrospectiva de sua fotografia já realizada no Reino Unido\, a Tate Britain celebra Lee Miller como uma das vozes artísticas mais urgentes do século XX. \nCom sua primeira experiência com uma câmera sendo atrás de uma\, Miller foi uma das modelos mais requisitadas do final da década de 1920. Rapidamente\, ela se colocou atrás das lentes\, tornando-se uma figura de destaque nas cenas de vanguarda de Nova York\, Paris\, Londres e Cairo. \nA exposição apresentará a extraordinária carreira de Miller\, desde sua participação no surrealismo francês até sua fotografia de moda e guerra. Explorando suas colaborações artísticas\, a exposição também lançará luz sobre aspectos menos conhecidos de sua prática\, como suas notáveis ​​imagens da paisagem egípcia na década de 1930. \nCom cerca de 250 gravuras vintage e modernas\, incluindo aquelas nunca antes exibidas\, a exposição revela a visão poética e o espírito destemido de Miller. \nDeterminada a trilhar seu próprio caminho\, ela comentou mais tarde: “Foi uma questão de arriscar e serrar tudo atrás de você”. \n  \n  \n  \n  \n  \n  \n  \n  \n  \n  \n  \n 
URL:https://artequeacontece.com.br/evento/lee-miller-no-tate-britain-museum/
LOCATION:Tate Britain\, Millbank\, London SW1P 4RG\, Londres\, Reino unido
CATEGORIES:Londres
ATTACH;FMTTYPE=image/jpeg:https://artequeacontece.com.br/wp-content/uploads/2025/10/Copyright_LeeMillerArchives_Fire_Masks_London_.width-840.jpg
END:VEVENT
END:VCALENDAR