BEGIN:VCALENDAR
VERSION:2.0
PRODID:-//Arte Que Acontece - ECPv6.15.20//NONSGML v1.0//EN
CALSCALE:GREGORIAN
METHOD:PUBLISH
X-WR-CALNAME:Arte Que Acontece
X-ORIGINAL-URL:https://artequeacontece.com.br
X-WR-CALDESC:Eventos para Arte Que Acontece
REFRESH-INTERVAL;VALUE=DURATION:PT1H
X-Robots-Tag:noindex
X-PUBLISHED-TTL:PT1H
BEGIN:VTIMEZONE
TZID:America/Sao_Paulo
BEGIN:STANDARD
TZOFFSETFROM:-0300
TZOFFSETTO:-0300
TZNAME:-03
DTSTART:20230101T000000
END:STANDARD
END:VTIMEZONE
BEGIN:VEVENT
DTSTART;TZID=America/Sao_Paulo:20240301T100000
DTEND;TZID=America/Sao_Paulo:20240721T170000
DTSTAMP:20260419T103214
CREATED:20240314T195433Z
LAST-MODIFIED:20240314T200358Z
UID:47295-1709287200-1721581200@artequeacontece.com.br
SUMMARY:"LaToya M. Hobbs: It’s Time" nos Harvard Art Museums
DESCRIPTION:LaToya M. Hobbs\, Scene 5: The Studio\, de Carving Out Time\, 2020–21. Harvard Art Museums/Fogg Museum\, Margaret Fisher Fund\, 2022.224.5. © LaToya M. Hobbs. Foto: Ariston Jacks; cortesia da artista.\n\n\n\nLaToya M. Hobbs: It’s Time apresenta a série Carving Out Time\, uma suíte de gravuras em tamanho real pela artista nascida no Arkansas e baseada em Baltimore\, LaToya M. Hobbs. Desdobrando-se ao longo de cinco cenas\, o trabalho retrata um dia na vida de Hobbs com seu marido\, o artista visual Ariston Jacks\, e seus dois filhos. Hobbs compartilha o trabalho e a intimidade de sua vida privada nessas impressões\, centrando-se nas negociações que ela faz diariamente para equilibrar suas múltiplas responsabilidades – como esposa\, mãe\, educadora e artista. A série também é uma declaração poderosa sobre suas influências e autoformação como artista: referências a pinturas\, esculturas e gravuras de artistas proeminentes como Elizabeth Catlett\, Alma Thomas\, Valerie Maynard e Kerry James Marshall aparecem ao longo do trabalho. Carving Out Time (2020–21) é a maior expressão dentro do projeto Salt of the Earth em curso de Hobbs\, que ela caracteriza como “a personificação das mulheres negras como sal em relação ao seu papel como preservadoras da família\, cultura e comunidade.” Uma contemplação de conceitos nuances de tempo e trabalho\, o trabalho oferece uma declaração visual comovente que é ao mesmo tempo profundamente pessoal e universal. \n\n\n\nLaToya M. Hobbs: It’s Time é a apresentação inaugural da série completa de gravuras e oferece uma oportunidade única de visualizar os desenhos que a artista fez em preparação para o projeto\, os quais ela generosamente emprestou para a exposição para sua primeira exibição pública.
URL:https://artequeacontece.com.br/evento/latoya-m-hobbs-its-time-nos-harvard-art-museums/
LOCATION:Harvard Art Museums\, 32 Quincy St Mid-Cambridge\, Cambridge\, Massachusetts\, Estados Unidos
CATEGORIES:Boston
ATTACH;FMTTYPE=image/jpeg:https://artequeacontece.com.br/wp-content/uploads/2024/03/LaToya-M.-Hobbs-Scene-5-The-Studio-from-Carving-Out-Time-2020–21.jpg
END:VEVENT
END:VCALENDAR