BEGIN:VCALENDAR
VERSION:2.0
PRODID:-//Arte Que Acontece - ECPv6.15.20//NONSGML v1.0//EN
CALSCALE:GREGORIAN
METHOD:PUBLISH
X-WR-CALNAME:Arte Que Acontece
X-ORIGINAL-URL:https://artequeacontece.com.br
X-WR-CALDESC:Eventos para Arte Que Acontece
REFRESH-INTERVAL;VALUE=DURATION:PT1H
X-Robots-Tag:noindex
X-PUBLISHED-TTL:PT1H
BEGIN:VTIMEZONE
TZID:America/Sao_Paulo
BEGIN:STANDARD
TZOFFSETFROM:-0300
TZOFFSETTO:-0300
TZNAME:-03
DTSTART:20240101T000000
END:STANDARD
END:VTIMEZONE
BEGIN:VEVENT
DTSTART;TZID=America/Sao_Paulo:20251018T103000
DTEND;TZID=America/Sao_Paulo:20251122T170000
DTSTAMP:20260419T122717
CREATED:20251015T192423Z
LAST-MODIFIED:20251015T192956Z
UID:65590-1760783400-1763830800@artequeacontece.com.br
SUMMARY:"L’Atelier" na Casa Zalszupin
DESCRIPTION:Vista da exposição “L’Atelier”. Foto: Ruy Teixeira\n\n\n\n\nInspirada nos catálogos e nas propagandas da L’Atelier — empresa de móveis fundada por Jorge Zalszupin em 1959 —\, a Casa Zalszupin recebe\, a partir de 18 de outubro\, a exposição homônima L’Atelier\, sob curadoria de Marina Frúgoli. A mostra conecta arquitetura\, arte e design\, evocando o espírito livre e bem-humorado de Zalszupin em suas criações. O mobiliário produzido pela L’Atelier é apresentado em diálogo com obras de artistas como Amilcar de Castro\, Lygia Pape\, Luiz Sacilotto e Hércules Barsotti. \nSeguindo princípios modernistas\, os móveis desenhados por Zalszupin e sua equipe conviviam com obras de arte geométricas e coloridas\, conferindo ludicidade e jovialidade às composições. Na mostra\, predominam obras ligadas ao construtivismo\, de artistas que participaram dos movimentos concreto e neoconcreto. \n“Assim como Jorge Zalszupin\, que em suas criações se permitia transitar entre o rigor e a liberdade formal\, sem se prender estritamente aos preceitos do modernismo\, a exposição apresenta obras fundamentadas por princípios construtivistas\, mas também trabalhos desses mesmos artistas em momentos que dialogaram com a abstração orgânica\, a figuração e o pop”\, explica a curadora. \nDesde 2021\, a Casa Zalszupin abre suas portas como espaço cultural dedicado a fomentar a cultura por meio de exposições\, palestras\, aulas e pesquisas\, além de preservar o acervo e o patrimônio do designer. O imóvel\, ícone da arquitetura modernista brasileira\, foi residência de Jorge Zalszupin por quase seis décadas\, até seu falecimento em 2020. \nL’Atelier fica em exibição até 22 de novembro de 2025. \n*Visitas guiadas acontecem de hora em hora mediante agendamento no site
URL:https://artequeacontece.com.br/evento/latelier-na-casa-zalszupin/
LOCATION:Casa Zalszupin\, R. Dr. Antônio Carlos de Assunção\, 138 - Jardim America\, São Paulo\, SP\, Brasil
CATEGORIES:São Paulo
ATTACH;FMTTYPE=image/jpeg:https://artequeacontece.com.br/wp-content/uploads/2025/10/Vistas-LAtelier_Ruy-Teixeira-1-1.jpg
END:VEVENT
END:VCALENDAR