BEGIN:VCALENDAR
VERSION:2.0
PRODID:-//Arte Que Acontece - ECPv6.15.20//NONSGML v1.0//EN
CALSCALE:GREGORIAN
METHOD:PUBLISH
X-WR-CALNAME:Arte Que Acontece
X-ORIGINAL-URL:https://artequeacontece.com.br
X-WR-CALDESC:Eventos para Arte Que Acontece
REFRESH-INTERVAL;VALUE=DURATION:PT1H
X-Robots-Tag:noindex
X-PUBLISHED-TTL:PT1H
BEGIN:VTIMEZONE
TZID:America/Sao_Paulo
BEGIN:STANDARD
TZOFFSETFROM:-0300
TZOFFSETTO:-0300
TZNAME:-03
DTSTART:20230101T000000
END:STANDARD
END:VTIMEZONE
BEGIN:VEVENT
DTSTART;TZID=America/Sao_Paulo:20240831T100000
DTEND;TZID=America/Sao_Paulo:20241005T180000
DTSTAMP:20260419T114921
CREATED:20240910T155614Z
LAST-MODIFIED:20240910T155614Z
UID:51011-1725098400-1728151200@artequeacontece.com.br
SUMMARY:"Lake Margrethe" de Koak na Perrotin
DESCRIPTION:Vista da exposição Lake Margrethe de Koak na Perrotin Paris\, 2024. Foto: Claire Dorn. Cortesia do artista e da Perrotin.\n\n\n\n\nA exposição Lake Margrethe\, de Koak\, marca sua primeira grande exibição na Europa e explora a complexidade emocional e visual entre natureza e corpo. Com influências de quadrinhos e um forte uso de linhas expressivas\, Koak mistura memórias familiares e experiências pessoais\, como as retratadas em pinturas de sua avó\, mãe e dela própria. As obras transitam entre o real e o abstrato\, com temas de transição\, saúde e doença. A cor verde\, presente em muitas das peças\, remete tanto à vitalidade quanto à toxicidade\, refletindo a dualidade de momentos aparentemente belos e os perigos ocultos.
URL:https://artequeacontece.com.br/evento/lake-margrethe-de-koak-na-perrotin/
LOCATION:Perrotin Paris\, 10 Imp. Saint-Claude\, Paris
CATEGORIES:Paris
ATTACH;FMTTYPE=image/jpeg:https://artequeacontece.com.br/wp-content/uploads/2024/09/44451-1-1.jpg
END:VEVENT
END:VCALENDAR