BEGIN:VCALENDAR
VERSION:2.0
PRODID:-//Arte Que Acontece - ECPv6.15.20//NONSGML v1.0//EN
CALSCALE:GREGORIAN
METHOD:PUBLISH
X-WR-CALNAME:Arte Que Acontece
X-ORIGINAL-URL:https://artequeacontece.com.br
X-WR-CALDESC:Eventos para Arte Que Acontece
REFRESH-INTERVAL;VALUE=DURATION:PT1H
X-Robots-Tag:noindex
X-PUBLISHED-TTL:PT1H
BEGIN:VTIMEZONE
TZID:America/Sao_Paulo
BEGIN:STANDARD
TZOFFSETFROM:-0300
TZOFFSETTO:-0300
TZNAME:-03
DTSTART:20220101T000000
END:STANDARD
END:VTIMEZONE
BEGIN:VEVENT
DTSTART;TZID=America/Sao_Paulo:20230705T110000
DTEND;TZID=America/Sao_Paulo:20231029T180000
DTSTAMP:20260422T053411
CREATED:20230929T184858Z
LAST-MODIFIED:20230929T184923Z
UID:44095-1688554800-1698602400@artequeacontece.com.br
SUMMARY:"Lagos\, Peckham\, Repeat: Pilgrimage to the Lakes" na South London Gallery
DESCRIPTION:Conhecido como ‘Little Lagos’\, Peckham\, um distrito de South London\, abriga uma das maiores comunidades da diáspora nigeriana no Reino Unido. Lagos\, Peckham\, Repeat: Pilgrimage to the Lakes é uma importante exposição coletiva que examina as conexões entre Lagos\, na Nigéria\, e Peckham\, no sudeste de Londres. A exposição destaca as relações\, cultura\, história compartilhada\, comunidades e arte que conectam esses dois lugares. Os temas explorados incluem intercâmbio transnacional\, um senso de lugar e a metrópole contemporânea. A exposição apresenta obras de treze artistas nigerianos e britânicos-nigerianos\, reunindo escultura\, fotografia\, som e cinema. Ela apresenta várias novas comissões\, uma instalação específica para o local e uma colaboração com a cervejaria Orbit\, com sede no sul de Londres. A exposição também exibirá trabalhos produzidos durante residências artísticas\, uma em Lagos e outra em Peckham\, com o objetivo de desenvolver ainda mais relacionamentos criativos duradouros entre os dois lugares.
URL:https://artequeacontece.com.br/evento/lagos-peckham-repeat-pilgrimage-to-the-lakes-na/
LOCATION:South London Gallery\, 65 Peckham Rd\, Londres\, Reino unido
CATEGORIES:Londres
ATTACH;FMTTYPE=image/jpeg:https://artequeacontece.com.br/wp-content/uploads/2023/09/Adeyemi-Michael-Entitled-still-2018-1-1-1.jpg
END:VEVENT
END:VCALENDAR