BEGIN:VCALENDAR
VERSION:2.0
PRODID:-//Arte Que Acontece - ECPv6.15.20//NONSGML v1.0//EN
CALSCALE:GREGORIAN
METHOD:PUBLISH
X-WR-CALNAME:Arte Que Acontece
X-ORIGINAL-URL:https://artequeacontece.com.br
X-WR-CALDESC:Eventos para Arte Que Acontece
REFRESH-INTERVAL;VALUE=DURATION:PT1H
X-Robots-Tag:noindex
X-PUBLISHED-TTL:PT1H
BEGIN:VTIMEZONE
TZID:America/Sao_Paulo
BEGIN:STANDARD
TZOFFSETFROM:-0300
TZOFFSETTO:-0300
TZNAME:-03
DTSTART:20220101T000000
END:STANDARD
END:VTIMEZONE
BEGIN:VEVENT
DTSTART;TZID=America/Sao_Paulo:20231201T100000
DTEND;TZID=America/Sao_Paulo:20250309T173000
DTSTAMP:20260419T123533
CREATED:20240306T181929Z
LAST-MODIFIED:20250228T224436Z
UID:47039-1701424800-1741541400@artequeacontece.com.br
SUMMARY:"La poesia ti guarda". Homenagem ao Grupo 70 (1963-2023) na Galleria d'Arte Moderna
DESCRIPTION:Imagem: Divulgação Galleria d’Arte Moderna\n\n\n\n\nEm 24 de maio de 1963\, no Forte do Belvedere em Florença\, ocorreu a conferência “Arte e comunicação”\, considerada pelos estudiosos o ato oficial de fundação do Grupo 70. \n\n\n\nSeis décadas após esse evento\, a Galleria d’Arte Moderna organiza uma exposição em homenagem aos artistas que determinaram sua criação. \n\n\n\nO Grupo 70 é o grupo artístico que interpreta de forma mais completa e coerente\, no contexto italiano\, o movimento internacional da poesia visual. Entre as neo-vanguardas\, é a que mais possui um caráter híbrido e multilíngue\, situando-se em uma “terra de ninguém” sugestiva entre a escrita e a imagem\, entre as artes visuais e a poesia. A arte era entendida e problematizada\, de forma mais geral\, como parte do complexo sistema de comunicação. \n\n\n\nEm comemoração a este aniversário\, é realizada uma homenagem aos principais expoentes do grupo – Ketty La Rocca\, Lucia Marcucci\, Eugenio Miccini\, Luciano Ori\, Lamberto Pignotti\, além de Roberto Malquori e Michele Perfetti – destacando as diversas manifestações estéticas e formais da poesia visual. \n\n\n\nAs obras\, em sua maioria inéditas e/ou pouco conhecidas pelo grande público\, provêm da coleção da Galeria de Arte Moderna\, do Arquivo Carlo Palli de Prato\, entre as principais coleções italianas de poesia visual\, do MART de Rovereto\, do Arquivo Lamberto Pignotti de Roma\, da Fundação Bonotto de Colceresa (VI) e de outras prestigiosas coleções privadas. \n\n\n\nA exposição inclui também poesias sonoras e cinépoesias\, livros de artista e documentos que ilustram de diversas maneiras as premissas teóricas\, as razões poéticas e os resultados expressivos do Grupo 70. \n\n\n\nA mostra\, com curadoria de Daniela Vasta\, é realizada em colaboração com o Arquivo Carlo Palli\, Arquivo Lamberto Pignotti e Fundação Bonotto. \n\n\n\nA exposição é acompanhada por um catálogo editado pela De Luca Editori d’Arte\, com contribuições críticas de Daniela Vasta\, Patrizio Peterlini e Lucilla Saccà\, e uma entrevista inédita com Lamberto Pignotti por Claudio Crescentini\, além de aparatos bio-bibliográficos organizados por Elena Rosica.
URL:https://artequeacontece.com.br/evento/la-poesia-ti-guarda-homenagem-ao-grupo-70-1963-2023-na-galleria-darte-moderna/
LOCATION:Galleria d’Arte Moderna\, via Palestro 16\, Milão\, Itália
CATEGORIES:Milão
ATTACH;FMTTYPE=image/jpeg:https://artequeacontece.com.br/wp-content/uploads/2024/03/Immagine-guida_1050_7.jpg
END:VEVENT
END:VCALENDAR