BEGIN:VCALENDAR
VERSION:2.0
PRODID:-//Arte Que Acontece - ECPv6.15.20//NONSGML v1.0//EN
CALSCALE:GREGORIAN
METHOD:PUBLISH
X-WR-CALNAME:Arte Que Acontece
X-ORIGINAL-URL:https://artequeacontece.com.br
X-WR-CALDESC:Eventos para Arte Que Acontece
REFRESH-INTERVAL;VALUE=DURATION:PT1H
X-Robots-Tag:noindex
X-PUBLISHED-TTL:PT1H
BEGIN:VTIMEZONE
TZID:America/Sao_Paulo
BEGIN:STANDARD
TZOFFSETFROM:-0300
TZOFFSETTO:-0300
TZNAME:-03
DTSTART:20240101T000000
END:STANDARD
END:VTIMEZONE
BEGIN:VEVENT
DTSTART;TZID=America/Sao_Paulo:20250830T000000
DTEND;TZID=America/Sao_Paulo:20250927T000000
DTSTAMP:20260419T123024
CREATED:20250903T153844Z
LAST-MODIFIED:20250903T153844Z
UID:64603-1756512000-1758931200@artequeacontece.com.br
SUMMARY:Kura e Fernanda Abdalla inauguram projeto AR com exposição "Arterea"
DESCRIPTION:Vista da exposição – Crédito: Ana Pigosso\nO projeto AR\, idealizado pela Kura\, junto a Fernanda Abdalla\, tem estreia com a mostra Arterea\, um novo ciclo de exposições dedicado à arte brasileira. A exposição inaugural apresenta um panorama significativo da produção artística moderna e contemporânea do país\, reunindo obras de mais de 20 artistas cujas trajetórias foram fundamentais para a construção da identidade visual brasileira. \nA mostra acontece de 30 de agosto a 27 de setembro de 2025\, e tem sede inaugural no emblemático casarão da família Yunes\, localizado na Avenida Europa – Jardim América. \n“Há muita vontade entre nós três. Quase uma necessidade para a realização desse projeto. Foi uma aproximação muito orgânica de pessoas que já estavam no mesmo âmbito tanto profissional\, quanto pessoal. Acho que esses encontros inesperados\, no final\, são os mais bonitos. E espero que seja muito duradouro também.” – Fernanda Abdalla\, co-idealizadora do projeto AR \nUm novo episódio para a arte brasileira \nO projeto AR nasce com a proposta de criar um espaço dinâmico onde as linhas invisíveis da criação se encontram. Funcionando como artérias que impulsionam um movimento contínuo de ideias e imagens. \nLuisa Duarte\, crítica de arte\, curadora e pesquisadora\, é a responsável pela curadoria. Ela conta com a assistência de Lucas Alberto\, pesquisador\, curador e produtor de exposições. \nO projeto conta com intervenções espaciais especialmente desenvolvidas por Lucia Koch\, Rodrigo Cass e Allan Weber. \nAlém disso\, a seleção reúne um grupo seleto de artistas que inclui nomes como Luisa Matsushita\, Alexandre da Cunha\, Sonia Gomes\, Luana Vitra\, Paulo Roberto Leal\, entre outros. A mostra promove um diálogo rico entre diferentes gerações e linguagens artísticas\, criando pontes entre a tradição moderna brasileira e as experimentações contemporâneas. \n“Queremos criar um ambiente no qual você seja surpreendido. Além de obras já existentes\, teremos obras site-specific\, para as quais os artistas foram convidados a visitar o local e pensar a criação da obra junto ao espaço. Isso tem ligação direta com a ideia do ‘ar’ – os lugares que permeamos\, os entrelugares\, onde acreditamos que a mágica acontece – é aí que nasce nosso projeto.” – Camila Yunes\, Fundadora e Diretora Geral da Kura. \nVisita mediante agendamento prévio.
URL:https://artequeacontece.com.br/evento/kura-e-fernanda-abdalla-inauguram-projeto-ar-com-exposicao-arterea/
LOCATION:Casarão da família Yunes\, Avenida Europa\, 25 – Pinheiros\, São Paulo\, SP\, Brazil
CATEGORIES:São Paulo
ATTACH;FMTTYPE=image/jpeg:https://artequeacontece.com.br/wp-content/uploads/2025/09/250827-Kura-ph-Ana-Pigosso-006-hr-1.jpg
END:VEVENT
END:VCALENDAR