BEGIN:VCALENDAR
VERSION:2.0
PRODID:-//Arte Que Acontece - ECPv6.15.20//NONSGML v1.0//EN
CALSCALE:GREGORIAN
METHOD:PUBLISH
X-WR-CALNAME:Arte Que Acontece
X-ORIGINAL-URL:https://artequeacontece.com.br
X-WR-CALDESC:Eventos para Arte Que Acontece
REFRESH-INTERVAL;VALUE=DURATION:PT1H
X-Robots-Tag:noindex
X-PUBLISHED-TTL:PT1H
BEGIN:VTIMEZONE
TZID:America/Sao_Paulo
BEGIN:STANDARD
TZOFFSETFROM:-0300
TZOFFSETTO:-0300
TZNAME:-03
DTSTART:20230101T000000
END:STANDARD
END:VTIMEZONE
BEGIN:VEVENT
DTSTART;TZID=America/Sao_Paulo:20240502T100000
DTEND;TZID=America/Sao_Paulo:20240608T190000
DTSTAMP:20260422T093123
CREATED:20240513T190909Z
LAST-MODIFIED:20240513T191007Z
UID:48665-1714644000-1717873200@artequeacontece.com.br
SUMMARY:"Kindred Spirits: Joan Miró and Alexander Calder" na Opera Gallery
DESCRIPTION:Alexander Calder\, Caged Stone on Yellow Stalk (detalhe)\, 1955\n\n\n\nKindred Spirits: Joan Miró and Alexander Calder explora a profunda amizade e troca artística entre dois artistas modernos pioneiros. O par fortuito se conheceu em Paris em 1928 e se uniu por seu amor compartilhado pela arte e criatividade\, apesar das barreiras linguísticas — Calder era americano\, e Miró era catalão. Sua amizade perdurou por quase meio século até a morte de Calder em 1976. Eles trocaram obras de arte e se visitaram em várias localidades\, fomentando uma profunda admiração mútua e entendimento que transcendeu diferenças culturais. \n\n\n\nMiró inicialmente teve maior proeminência artística\, exibindo notáveis telas na década de 1920 que mesclavam fantasia com imagens inventivas. Enquanto isso\, a evolução artística de Calder foi medida\, influenciada por seu background em engenharia e fascinação infantil por transformar objetos cotidianos em arte. \n\n\n\nApesar de suas origens e abordagens criativas diferentes\, ambos os artistas compartilhavam uma linguagem visual enraizada em forma e cor\, exibindo maestria em diversos meios artísticos — de escultura e pintura a gravura e design de cenários. \n\n\n\nEsta exposição ilustra a duradoura amizade e diálogo artístico entre Calder e Miró\, traçando seus caminhos paralelos através da evolução da arte moderna durante a segunda metade do século XX. Suas experiências compartilhadas e trocas criativas destacam o profundo impacto que tiveram no trabalho um do outro\, moldando o curso da história da arte e deixando para trás um legado de inovação e imaginação.
URL:https://artequeacontece.com.br/evento/kindred-spirits-joan-miro-and-alexander-calder-no-getty-center/
LOCATION:Opera Gallery\, 65-66 New Bond St\, Londres\, United Kingdom
CATEGORIES:Nova York
ATTACH;FMTTYPE=image/jpeg:https://artequeacontece.com.br/wp-content/uploads/2024/05/Alexander-Calder-Caged-Stone-on-Yellow-Stalk-detail-1955.jpg
END:VEVENT
END:VCALENDAR