BEGIN:VCALENDAR
VERSION:2.0
PRODID:-//Arte Que Acontece - ECPv6.15.20//NONSGML v1.0//EN
CALSCALE:GREGORIAN
METHOD:PUBLISH
X-WR-CALNAME:Arte Que Acontece
X-ORIGINAL-URL:https://artequeacontece.com.br
X-WR-CALDESC:Eventos para Arte Que Acontece
REFRESH-INTERVAL;VALUE=DURATION:PT1H
X-Robots-Tag:noindex
X-PUBLISHED-TTL:PT1H
BEGIN:VTIMEZONE
TZID:America/Sao_Paulo
BEGIN:STANDARD
TZOFFSETFROM:-0300
TZOFFSETTO:-0300
TZNAME:-03
DTSTART:20240101T000000
END:STANDARD
END:VTIMEZONE
BEGIN:VEVENT
DTSTART;TZID=America/Sao_Paulo:20250628T100000
DTEND;TZID=America/Sao_Paulo:20251026T180000
DTSTAMP:20260419T122024
CREATED:20250624T144926Z
LAST-MODIFIED:20250624T144926Z
UID:63401-1751104800-1761501600@artequeacontece.com.br
SUMMARY:"Kiefer / Van Gogh" na Royal Academy of Arts
DESCRIPTION:Vincent van Gogh\, “Field with Irises near Arles”\, 1888\nVincent van Gogh exerceu uma influência duradoura sobre Anselm Kiefer. Neste verão\, será possível ver obras de ambos lado a lado. \nEm 1890\, Vincent van Gogh pintou suas obras finais. \nSetenta e dois anos depois\, um jovem Anselm Kiefer\, então com dezoito anos\, recebeu uma bolsa de viagem para seguir os passos de Van Gogh — começando pela Holanda\, passando pela Bélgica\, Paris e chegando a Arles\, no sul da França. \nAo longo de quase 60 anos de carreira\, Kiefer manteve Van Gogh como uma referência constante. O pioneiro do pós-impressionismo influenciou tanto os temas quanto as técnicas presentes nas pinturas e esculturas monumentais de Kiefer\, que atravessam história\, mitologia\, literatura\, filosofia e ciência. \nDistribuída por três salas das galerias menores da Royal Academy\, esta exposição concentra-se\, pela primeira vez\, em refletir sobre o impacto duradouro de Van Gogh na obra de Kiefer. Reunindo trabalhos dos dois artistas\, a mostra também apresenta peças inéditas de Kiefer\, nunca antes exibidas.
URL:https://artequeacontece.com.br/evento/kiefer-van-gogh-na-royal-academy-of-arts/
LOCATION:Royal Academy of Arts\, Burlington House\, Piccadilly\, Londres\, Reino unido
CATEGORIES:Londres
ATTACH;FMTTYPE=image/jpeg:https://artequeacontece.com.br/wp-content/uploads/2025/06/Vincent-van-Gogh-Field-with-Irises-near-Arles-Arles-May-1888-1.jpg
END:VEVENT
END:VCALENDAR