BEGIN:VCALENDAR
VERSION:2.0
PRODID:-//Arte Que Acontece - ECPv6.15.20//NONSGML v1.0//EN
CALSCALE:GREGORIAN
METHOD:PUBLISH
X-WR-CALNAME:Arte Que Acontece
X-ORIGINAL-URL:https://artequeacontece.com.br
X-WR-CALDESC:Eventos para Arte Que Acontece
REFRESH-INTERVAL;VALUE=DURATION:PT1H
X-Robots-Tag:noindex
X-PUBLISHED-TTL:PT1H
BEGIN:VTIMEZONE
TZID:America/Sao_Paulo
BEGIN:STANDARD
TZOFFSETFROM:-0300
TZOFFSETTO:-0300
TZNAME:-03
DTSTART:20230101T000000
END:STANDARD
END:VTIMEZONE
BEGIN:VEVENT
DTSTART;TZID=America/Sao_Paulo:20241102T120000
DTEND;TZID=America/Sao_Paulo:20250221T170000
DTSTAMP:20260419T085854
CREATED:20241101T173755Z
LAST-MODIFIED:20250323T220317Z
UID:59056-1730548800-1740157200@artequeacontece.com.br
SUMMARY:"KAIUMALO" de Kaya Agari na Carmo Johnson Projects
DESCRIPTION:Vista de exposição “KAIUMALO” de Kaya Agari. Foto: Samuel Esteves\n\n\n\n\n\n\n\n\nA Galeria Carmo Johnson Projects apresenta a primeira exposição individual da artista Kaya Agari\, “KAIUMALO”\, com abertura no dia 02/11\, sábado\, das 13h às 19h\, em seu espaço localizado no bairro Alto de Pinheiros\, em São Paulo. \nCom trabalhos recentemente produzidos especialmente para a mostra\, “KAIUMALO” tem a curadoria de Paula Borghi\, que acompanha a produção da artista há anos e se aprofundou na cultura Kurâ-Bakairi durante uma imersão em Mato Grosso\, na aldeia Kuiakware e em Cuiabá\, onde Kaya vive com sua família. \nComo menciona Borghi em seu texto curatorial: “Em sua primeira individual\, somos convidados a adentrar nas cosmologias Kurâ-Bakairi e no mundo de Kaya Agari\, que abre as portas de sua casa\, apresenta sua família e compartilha o mingau na cuia conosco. Não por acaso a mostra leva o sobrenome de sua ningo (avó) Vilinta Kaiumalo\, que\, mesmo não estando mais entre nós\, permanece viva na história familiar de Kaya. Esta é uma homenagem a ela e à família materna da artista\, com três vestidos representando três gerações\, pintados por Kaya e costurados por sua mãe.” \nA curadora destaca a importância dos grafismos na produção de Kaya Agari: “Os grafismos da pintura corporal Kurâ-Bakairi variam entre homem\, mulher e criança\, inspirando-se em animais como libélula\, onça\, sucuri\, peixe e jabuti. Em muitas culturas indígenas\, vestir-se com um grafismo é tornar-se um pouco aquele animal. Kaya faz com que suas pinturas vistam as paredes do ‘cubo branco’ com a presença simbólica dos animais\, trazendo um vislumbre de um futuro ancestral.” \nA artista apresenta pela primeira vez um trabalho em vídeo e uma instalação: “No vídeo\, a mãe de Kaya prepara um pagu de tapioca em seu fogão de lenha\, discursando em Karib sobre o papel da cuia e do mingau na cultura Kurâ-Bakairi. Na instalação\, cuias com os nomes dos familiares maternos de Kaya formam uma árvore genealógica\, desde os mais antigos no topo até os mais jovens abaixo\, levando a família de Kaiumalo para participar da mostra em sua homenagem.” \nEm “KAIUMALO“\, Kaya Agari proporciona uma reflexão sobre a influência ancestral em sua produção\, mostrando como a cosmovisão Kurâ-Bakairi permeia suas criações. A exposição destaca a conexão da artista com sua herança cultural e o valor da memória e da tradição na expressão artística contemporânea. Como lembra a curadora\, “Kaya nos mostra que\, embora esta seja uma exposição individual\, ela sempre estará acompanhada de sua avó e de todos os seus familiares.”
URL:https://artequeacontece.com.br/evento/kaiumalo-de-kaya-agari-na-carmo-johnson-projects/
LOCATION:Carmo Johnson Projects\, Rua Anunze\, 249 - Boaçava / Alto de Pinheiros\, São Paulo\, SP\, Brasil
CATEGORIES:São Paulo
ATTACH;FMTTYPE=image/jpeg:https://artequeacontece.com.br/wp-content/uploads/2024/11/CJP_Vista-de-Exposicao_KAIUMALO_Kaya-Agari_2024_W_ph-Samuel-Esteves-4472-1.jpg
END:VEVENT
END:VCALENDAR