BEGIN:VCALENDAR
VERSION:2.0
PRODID:-//Arte Que Acontece - ECPv6.15.20//NONSGML v1.0//EN
CALSCALE:GREGORIAN
METHOD:PUBLISH
X-WR-CALNAME:Arte Que Acontece
X-ORIGINAL-URL:https://artequeacontece.com.br
X-WR-CALDESC:Eventos para Arte Que Acontece
REFRESH-INTERVAL;VALUE=DURATION:PT1H
X-Robots-Tag:noindex
X-PUBLISHED-TTL:PT1H
BEGIN:VTIMEZONE
TZID:America/Sao_Paulo
BEGIN:STANDARD
TZOFFSETFROM:-0300
TZOFFSETTO:-0300
TZNAME:-03
DTSTART:20240101T000000
END:STANDARD
END:VTIMEZONE
BEGIN:VEVENT
DTSTART;TZID=America/Sao_Paulo:20251025T100000
DTEND;TZID=America/Sao_Paulo:20251220T190000
DTSTAMP:20260419T100601
CREATED:20251024T153412Z
LAST-MODIFIED:20251024T153412Z
UID:65928-1761386400-1766257200@artequeacontece.com.br
SUMMARY:"Jogo da Memória" de Geraldo de Barros na Luciana Brito Galeria
DESCRIPTION:Geraldo de Barros\, da série SOBRAS\, 1996 – 1998 / 2024. Fotografia em gelatina e prata sobre papel fibra. Edição contemporânea Instituto Moreira Salles – 2024\n\n\n\n\n\n\n\nA Luciana Brito Galeria apresenta Jogo da Memória\, mostra inédita de Geraldo de Barros (1923–1998)\, organizada pelo Arquivo Geraldo de Barros (Fabiana de Barros e Michel Favre). A exposição reúne\, pela primeira vez na história\, a coleção completa da série Sobras (1996–1998 / 2024)\, a derradeira pesquisa do artista brasileiro\, considerada um marco experimental em sua trajetória. O conjunto completo abrange 281 peças\, cuja disposição no espaço expositivo convida a uma leitura expandida da complexidade da prática fotográfica de Geraldo de Barros. \nGeraldo de Barros é figura fundamental para a compreensão da história contemporânea da arte brasileira. Foi o responsável pela ruptura que aproximou a técnica da fotografia à linguagem artística\, por meio da série Fotoformas (1948 – 1953)\, quando introduziu intervenções abstratas e geométricas nos registros fotográficos. Essa incursão experimental o posiciona como o pioneiro dessa prática como uma linguagem visual autônoma\, descortinando para as possibilidades que alicerçam o cenário atual e\, mesmo décadas mais tarde\, servindo de base também para as Sobras\, sua pesquisa de maior impacto poético. \nA série Sobras\, última realizada por Geraldo de Barros antes do seu falecimento\, em 1998\, com 75 anos\, traz a impressão gestual e urgente do artista\, que a essa altura já demonstrava grande dificuldade motora devido às isquemias cerebrais. Trata-se\, sobretudo\, de uma investigação que representa o auge da maturidade sensível\, criativa e poética do artista\, ou seja\, um testamento artístico que resgata suas memórias\, além de condensar os principais aspectos da sua obra\, como racionalidade construtiva e subjetividade\, fotografia documental e criatividade visual\, por meio do experimentalismo. \nEssa dimensão múltipla da série é realçada em Jogo da Memória\, apresentação inédita concebida como uma linha do tempo construída a partir de relações temáticas\, formais e estéticas. O percurso expositivo propõe um diálogo à distância com as etapas originais de sua realização\, permitindo ao visitante mergulhar na riqueza e na vitalidade da obra de Geraldo de Barros e revelando a continuidade de seu pensamento visual. \nAs Sobras foram produzidas entre os anos de 1996 e 1998 por Geraldo de Barros\, que recorreu aos negativos de diferentes períodos de sua vida — entre eles\, registros de viagens em família\, imagens dos anos 1940 e outras encontradas em gavetas e envelopes guardados ao longo dos anos. Com a ajuda\, em momentos distintos\, de uma assistente e da filha\, a artista Fabiana de Barros\, ele recortou e recombinou esses negativos em 249 composições visuais\, coladas em lâminas de vidro. Nesse processo\, o artista dá corpo a uma ideia que havia formulado anos antes de realizar as Sobras: “Um negativo achado\, todo riscado e empoeirado\, se fornecer um bom resultado fotográfico\, a fotografia é de quem a realiza e não de quem expôs o negativo.” \nQuase três décadas mais tarde\, essa concepção ganha nova dimensão na exposição Jogo da Memória\, que apresenta pela primeira vez o conjunto completo da série. O projeto foi possível graças à iniciativa do Instituto Moreira Salles\, por meio de Sergio Burgi e do laboratorista Ailton Alexandre da Silva\, que se dedicaram a um meticuloso trabalho de recuperação e produção das impressões\, respeitando integralmente as instruções deixadas pelo artista. O resultado desse intenso trabalho de releitura do processo fotográfico traz um conjunto de ampliações realizadas no formato originalmente desejado por Geraldo de Barros\, preservando uma ampla borda branca como parte da obra. \nNo pavilhão da galeria\, sob a direção do Arquivo Geraldo de Barros\, organizado por Fabiana de Barros e pelo cineasta suíço Michel Favre\, a instalação de Jogo da Memória convida o visitante a uma viagem pela prática do artista\, projetando novas relações entre as Sobras\, os vazios dos recortes e as múltiplas camadas de tempo e lembrança que atravessam sua obra. O jogo proposto é também um convite à imaginação — um exercício de reconstrução em que o olhar do público se torna parte ativa do processo criativo\, prolongando a vida das imagens e\, com elas\, a memória do próprio artista.
URL:https://artequeacontece.com.br/evento/jogo-da-memoria-de-geraldo-de-barros-na-luciana-brito-galeria/
LOCATION:Luciana Brito Galeria\, Av. Nove de Julho\, 5162 - Jardim Europa\, São Paulo\, SP\, Brasil
CATEGORIES:São Paulo
ATTACH;FMTTYPE=image/jpeg:https://artequeacontece.com.br/wp-content/uploads/2025/10/Sobras244_3466-1.jpg
END:VEVENT
END:VCALENDAR