BEGIN:VCALENDAR
VERSION:2.0
PRODID:-//Arte Que Acontece - ECPv6.15.20//NONSGML v1.0//EN
CALSCALE:GREGORIAN
METHOD:PUBLISH
X-WR-CALNAME:Arte Que Acontece
X-ORIGINAL-URL:https://artequeacontece.com.br
X-WR-CALDESC:Eventos para Arte Que Acontece
REFRESH-INTERVAL;VALUE=DURATION:PT1H
X-Robots-Tag:noindex
X-PUBLISHED-TTL:PT1H
BEGIN:VTIMEZONE
TZID:America/Sao_Paulo
BEGIN:STANDARD
TZOFFSETFROM:-0300
TZOFFSETTO:-0300
TZNAME:-03
DTSTART:20230101T000000
END:STANDARD
END:VTIMEZONE
BEGIN:VEVENT
DTSTART;TZID=America/Sao_Paulo:20240913T100000
DTEND;TZID=America/Sao_Paulo:20241026T180000
DTSTAMP:20260422T073928
CREATED:20240911T193537Z
LAST-MODIFIED:20240911T194243Z
UID:51087-1726221600-1729965600@artequeacontece.com.br
SUMMARY:"Joel Shapiro: Out of the Blue" na Pace Gallery
DESCRIPTION:Retrato de Joel Shapiro\, 2024. Foto: Kyle Knodell\n\n\n\n\nA Pace apresenta Joel Shapiro: Out of the Blue em suas galerias localizadas na 508 e 510 West 25th Street\, em Nova York. Esta é a primeira exposição individual do artista com a Pace em Nova York desde 2014\, e será acompanhada por um novo catálogo da Pace Publishing\, com um ensaio do poeta e acadêmico Vincent Katz. A mostra ocorrerá de 13 de setembro a 26 de outubro\, apresentando três novas esculturas de madeira pintada em grande escala e uma seleção de estudos e pequenos bronzes\, oferecendo um vislumbre vibrante da prática artística de Shapiro. \nConsiderado um dos artistas mais renomados dos Estados Unidos\, Shapiro tem expandido os limites da forma escultural ao longo de seus 55 anos de carreira\, com uma obra marcada por dinamismo\, complexidade e elegância formal. Desde o início dos anos 1970\, Shapiro buscou transcender as restrições do Minimalismo\, introduzindo uma forma de arte mais referencial\, íntima e psicologicamente profunda. Embora seja mais conhecido por ajudar a redefinir a linguagem da escultura contemporânea com formas de bronze fundido que borram a linha entre abstração e figuração\, o artista empregou diversos métodos e materiais ao longo de sua carreira. Ele continua explorando a capacidade da escultura de alterar a percepção de espaço e escala\, criando obras que testemunham a resiliência humana diante da catástrofe e do colapso.
URL:https://artequeacontece.com.br/evento/joel-shapiro-out-of-the-blue-na-pace-gallery/
LOCATION:Pace Gallery\, 508 West 25th Street\, Nova York\, Nova York
CATEGORIES:Nova York
ATTACH;FMTTYPE=image/jpeg:https://artequeacontece.com.br/wp-content/uploads/2024/09/IMG_9518.width-2000-1-1.jpg
END:VEVENT
END:VCALENDAR