BEGIN:VCALENDAR
VERSION:2.0
PRODID:-//Arte Que Acontece - ECPv6.15.20//NONSGML v1.0//EN
CALSCALE:GREGORIAN
METHOD:PUBLISH
X-WR-CALNAME:Arte Que Acontece
X-ORIGINAL-URL:https://artequeacontece.com.br
X-WR-CALDESC:Eventos para Arte Que Acontece
REFRESH-INTERVAL;VALUE=DURATION:PT1H
X-Robots-Tag:noindex
X-PUBLISHED-TTL:PT1H
BEGIN:VTIMEZONE
TZID:America/Sao_Paulo
BEGIN:STANDARD
TZOFFSETFROM:-0300
TZOFFSETTO:-0300
TZNAME:-03
DTSTART:20230101T000000
END:STANDARD
END:VTIMEZONE
BEGIN:VEVENT
DTSTART;TZID=America/Sao_Paulo:20240411T100000
DTEND;TZID=America/Sao_Paulo:20240518T180000
DTSTAMP:20260421T193928
CREATED:20240411T210224Z
LAST-MODIFIED:20240411T210227Z
UID:48140-1712829600-1716055200@artequeacontece.com.br
SUMMARY:"Joe Bradley: Vom Abend" na David Zwirner
DESCRIPTION:Joe Bradley\, Vyakti\, 2022\n\n\n\nDavid Zwirner tem o prazer de anunciar Vom Abend\, uma exposição de novas pinturas de Joe Bradley na filial da galeria na 533 West 19th Street. Esta é a exposição de estreia de Bradley com a David Zwirner\, após o anúncio de sua representação pela galeria em maio de 2023. Estão em exibição um grupo de pinturas em grande formato que expandem as formas e estruturas composicionais que Bradley tem explorado nos últimos anos. Além da exposição\, a David Zwirner Books produzirá uma importante publicação sobre Bradley\, com lançamento previsto para 2025.
URL:https://artequeacontece.com.br/evento/joe-bradley-vom-abend-na-david-zwirner/
LOCATION:David Zwirner\, 525 & 533 West 19th Street\, Nova York\, Nova York\, Estados Unidos
CATEGORIES:Nova York
ATTACH;FMTTYPE=image/jpeg:https://artequeacontece.com.br/wp-content/uploads/2024/04/Joe-Bradley-Vyakti-2022.jpg
END:VEVENT
END:VCALENDAR