BEGIN:VCALENDAR
VERSION:2.0
PRODID:-//Arte Que Acontece - ECPv6.15.20//NONSGML v1.0//EN
CALSCALE:GREGORIAN
METHOD:PUBLISH
X-WR-CALNAME:Arte Que Acontece
X-ORIGINAL-URL:https://artequeacontece.com.br
X-WR-CALDESC:Eventos para Arte Que Acontece
REFRESH-INTERVAL;VALUE=DURATION:PT1H
X-Robots-Tag:noindex
X-PUBLISHED-TTL:PT1H
BEGIN:VTIMEZONE
TZID:America/Sao_Paulo
BEGIN:STANDARD
TZOFFSETFROM:-0300
TZOFFSETTO:-0300
TZNAME:-03
DTSTART:20220101T000000
END:STANDARD
END:VTIMEZONE
BEGIN:VEVENT
DTSTART;TZID=America/Sao_Paulo:20230713T110000
DTEND;TZID=America/Sao_Paulo:20240107T180000
DTSTAMP:20260422T053509
CREATED:20230729T145133Z
LAST-MODIFIED:20230729T145145Z
UID:42846-1689246000-1704650400@artequeacontece.com.br
SUMMARY:"Joan Didion: What She Means" no Pérez Art Museum Miami
DESCRIPTION:Organizado pelo aclamado escritor e colaborador da revista New Yorker\, Hilton Als\, a exposição apresenta aproximadamente cinquenta artistas\, incluindo Betye Saar\, Vija Celmins\, Felix Gonzalez-Torres\, Maren Hassinger\, Silke Otto-Knapp\, Ana Mendieta e Pat Steir\, entre muitos outros. Os mais de 200 objetos e obras de arte incluem relíquias de família\, pinturas\, efêmeros\, fotografias\, esculturas\, vídeos e cenas de vários filmes para os quais Didion escreveu roteiros. Joan Didion: What She Means segue uma cronologia que aborda a evolução simultaneamente pessoal e distante da voz de Didion como escritora e pioneira do Novo Jornalismo\, com ênfase na subjetividade e crítica do poder. A exposição acompanha de perto sua vida de acordo com os lugares que ela chamou de lar e é organizada em capítulos cronológicos: Sacramento\, Berkeley (1934–1956); Goodbye to All That: New York (1956–1963); The White Album: California\, Hawai‘i (1964–1988); e o capítulo final\, Sentimental Journeys: New York\, Miami\, San Salvador (1988–2021).
URL:https://artequeacontece.com.br/evento/joan-didion-what-she-means-no-perez-art-museum-miami/
LOCATION:Pérez Art Museum Miami\, 1103 Biscayne Blvd.\, Miami\, Flórida\, Estados Unidos
CATEGORIES:Miami
ATTACH;FMTTYPE=image/jpeg:https://artequeacontece.com.br/wp-content/uploads/2023/07/Noah-Purifoy-1-1.jpg
END:VEVENT
END:VCALENDAR