BEGIN:VCALENDAR
VERSION:2.0
PRODID:-//Arte Que Acontece - ECPv6.15.20//NONSGML v1.0//EN
CALSCALE:GREGORIAN
METHOD:PUBLISH
X-WR-CALNAME:Arte Que Acontece
X-ORIGINAL-URL:https://artequeacontece.com.br
X-WR-CALDESC:Eventos para Arte Que Acontece
REFRESH-INTERVAL;VALUE=DURATION:PT1H
X-Robots-Tag:noindex
X-PUBLISHED-TTL:PT1H
BEGIN:VTIMEZONE
TZID:America/Sao_Paulo
BEGIN:STANDARD
TZOFFSETFROM:-0300
TZOFFSETTO:-0300
TZNAME:-03
DTSTART:20230101T000000
END:STANDARD
END:VTIMEZONE
BEGIN:VEVENT
DTSTART;TZID=America/Sao_Paulo:20241028T100000
DTEND;TZID=America/Sao_Paulo:20250713T170000
DTSTAMP:20260422T084641
CREATED:20250504T204455Z
LAST-MODIFIED:20250504T204455Z
UID:62380-1730109600-1752426000@artequeacontece.com.br
SUMMARY:"Jesse Krimes: Corrections" no The Met Museum
DESCRIPTION:Jesse Krimes\, “Purgatory” (detalhe)\, 2009. The Metropolitan Museum of Art\, Nova York. Aquisição com doação do Vital Projects Fund Inc.\, por meio de Joyce e Robert Menschel\, e doações da Alfred Stieglitz Society\, 2024. © Jesse Krimes.\n\n\n\n\n\n\n\n\n\n\n\n\n\nA fotografia desempenhou um papel central na construção de sistemas de poder na sociedade\, especialmente em contextos ligados ao crime e à punição. Esta exposição apresenta instalações imersivas contemporâneas do artista Jesse Krimes (americano\, nascido em 1982)\, em diálogo com fotografias do século XIX do acervo do The Met\, realizadas pelo criminologista francês Alphonse Bertillon — responsável por desenvolver o primeiro sistema moderno de identificação criminal\, anterior à adoção das impressões digitais. \nAs instalações de Krimes\, criadas ao longo de seus seis anos de encarceramento\, revelam a engenhosidade de um artista que trabalhou sem acesso a materiais tradicionais. Utilizando sabonetes fornecidos pela prisão\, gel para cabelo\, cartas de baralho e jornais\, ele produziu obras que buscam interromper e recontextualizar a circulação de imagens na mídia. Exibidas em contraponto às fotografias de Bertillon — cuja metodologia combinava medidas antropométricas e retratos fotográficos\, dando origem à atual ficha de identificação criminal — as obras de Krimes questionam a suposta neutralidade dos sistemas de reconhecimento e as hierarquias sociais que eles ajudam a criar e perpetuar. \nArtista para quem a colaboração e o ativismo são essenciais\, Krimes fundou o Center for Art and Advocacy\, uma organização voltada à valorização do talento e do potencial criativo de pessoas que passaram pelo sistema prisional\, promovendo apoio e melhores condições para artistas anteriormente encarcerados.
URL:https://artequeacontece.com.br/evento/jesse-krimes-corrections-no-the-met-museum/
LOCATION:The Metropolitan Museum of Art\, 1000 5th Ave\, Nova York\, Nova York\, Estados Unidos
CATEGORIES:Nova York
ATTACH;FMTTYPE=image/jpeg:https://artequeacontece.com.br/wp-content/uploads/2025/05/f0b940cff882b8b43bcaca60c983a6d7c0c41c91-5120x5120-1.jpg
END:VEVENT
END:VCALENDAR