BEGIN:VCALENDAR
VERSION:2.0
PRODID:-//Arte Que Acontece - ECPv6.15.20//NONSGML v1.0//EN
CALSCALE:GREGORIAN
METHOD:PUBLISH
X-WR-CALNAME:Arte Que Acontece
X-ORIGINAL-URL:https://artequeacontece.com.br
X-WR-CALDESC:Eventos para Arte Que Acontece
REFRESH-INTERVAL;VALUE=DURATION:PT1H
X-Robots-Tag:noindex
X-PUBLISHED-TTL:PT1H
BEGIN:VTIMEZONE
TZID:America/Sao_Paulo
BEGIN:STANDARD
TZOFFSETFROM:-0300
TZOFFSETTO:-0300
TZNAME:-03
DTSTART:20220101T000000
END:STANDARD
END:VTIMEZONE
BEGIN:VEVENT
DTSTART;TZID=America/Sao_Paulo:20231025T100000
DTEND;TZID=America/Sao_Paulo:20240317T170000
DTSTAMP:20260419T122714
CREATED:20231204T183359Z
LAST-MODIFIED:20231204T183403Z
UID:44849-1698228000-1710694800@artequeacontece.com.br
SUMMARY:"Jamea Richmond-Edwards: Ancient Future" no MOCA North Miami
DESCRIPTION:Ancient Future apresenta a pesquisa multidimensional de Jamea Richmond-Edwards no afrofuturismo e nas mitologias negras\, exibindo suas vibrantes pinturas\, explorações cinematográficas e instalações imersivas características. A exposição introduz uma obra em vídeo que entrelaça suas experiências com bandas marciais de universidades historicamente negras (HBCU) e apresentações de majorettes\, complementada por uma trilha sonora de seu filho\, um emergente músico de jazz. No centro da exposição está uma pintura monumental que mescla egiptologia e referências bíblicas\, apresentando a guardiã cósmica\, a deusa egípcia Nut. \n\n\n\nPovoada por fantasia e autorretratos\, Ancient Future instiga os espectadores a imaginar um mundo sem opressão\, questionando quem poderíamos nos tornar em tal universo. Para Richmond-Edwards\, esta exposição projeta um futuro luminoso construído sobre a energia de nosso passado e presente.
URL:https://artequeacontece.com.br/evento/jamea-richmond-edwards-ancient-future-no-moca-north-miami/
LOCATION:MOCA North Miami\, 770 NE 125th street\, Miami\, Flórida\, Estados Unidos
CATEGORIES:Miami
ATTACH;FMTTYPE=image/jpeg:https://artequeacontece.com.br/wp-content/uploads/2023/12/64e3d19c1b5b465661f101cf_Richmond-Edwards-J_Shirt-with-Lace-Heart-1-1.jpg
END:VEVENT
END:VCALENDAR