BEGIN:VCALENDAR
VERSION:2.0
PRODID:-//Arte Que Acontece - ECPv6.15.20//NONSGML v1.0//EN
CALSCALE:GREGORIAN
METHOD:PUBLISH
X-WR-CALNAME:Arte Que Acontece
X-ORIGINAL-URL:https://artequeacontece.com.br
X-WR-CALDESC:Eventos para Arte Que Acontece
REFRESH-INTERVAL;VALUE=DURATION:PT1H
X-Robots-Tag:noindex
X-PUBLISHED-TTL:PT1H
BEGIN:VTIMEZONE
TZID:America/Sao_Paulo
BEGIN:STANDARD
TZOFFSETFROM:-0300
TZOFFSETTO:-0300
TZNAME:-03
DTSTART:20250101T000000
END:STANDARD
END:VTIMEZONE
BEGIN:VEVENT
DTSTART;TZID=America/Sao_Paulo:20260219T100000
DTEND;TZID=America/Sao_Paulo:20260328T170000
DTSTAMP:20260422T054420
CREATED:20260213T185048Z
LAST-MODIFIED:20260213T185058Z
UID:68486-1771495200-1774717200@artequeacontece.com.br
SUMMARY:"Jack Mendenhall – Solo Exhibition" na Louis K. Meisel Gallery em Nova York
DESCRIPTION:A Louis K. Meisel Gallery apresenta uma exposição individual de Jack Mendenhall\, um dos nomes centrais da primeira geração do Fotorealismo americano. Com uma carreira que atravessa mais de cinco décadas\, o artista construiu uma obra marcada pela precisão extrema e por um olhar atento sobre a cultura visual do lazer. \nAs pinturas reunidas exploram paisagens de resorts\, piscinas\, palmeiras e cenas ensolaradas de descanso — imagens que evocam tranquilidade\, mas também revelam uma observação sutil sobre consumo\, desejo e tempo livre. A técnica meticulosa\, quase fotográfica\, dissolve as fronteiras entre pintura e imagem\, criando composições que oscilam entre memória\, realidade e idealização. \nEm cartaz no espaço da galeria em SoHo\, a exposição oferece uma leitura refinada do imaginário do lazer na cultura norte-americana\, reafirmando a relevância de Mendenhall como um dos grandes expoentes do fotorealismo. \n 
URL:https://artequeacontece.com.br/evento/jack-mendenhall-louis-k-meisel-gallery-nova-york/
LOCATION:Louis K. Meisel Gallery\, 141 Prince Street\, Ground Floor\, New York\, NY 10012\, Nova York\, United States
CATEGORIES:Nova York
ATTACH;FMTTYPE=image/jpeg:https://artequeacontece.com.br/wp-content/uploads/2026/02/Mendenhall_Wailea_1995_oc_48x61_edited_websized-1.jpg
END:VEVENT
END:VCALENDAR