BEGIN:VCALENDAR
VERSION:2.0
PRODID:-//Arte Que Acontece - ECPv6.15.20//NONSGML v1.0//EN
CALSCALE:GREGORIAN
METHOD:PUBLISH
X-WR-CALNAME:Arte Que Acontece
X-ORIGINAL-URL:https://artequeacontece.com.br
X-WR-CALDESC:Eventos para Arte Que Acontece
REFRESH-INTERVAL;VALUE=DURATION:PT1H
X-Robots-Tag:noindex
X-PUBLISHED-TTL:PT1H
BEGIN:VTIMEZONE
TZID:America/Sao_Paulo
BEGIN:STANDARD
TZOFFSETFROM:-0300
TZOFFSETTO:-0300
TZNAME:-03
DTSTART:20220101T000000
END:STANDARD
END:VTIMEZONE
BEGIN:VEVENT
DTSTART;TZID=America/Sao_Paulo:20230223T120000
DTEND;TZID=America/Sao_Paulo:20230730T170000
DTSTAMP:20260422T060017
CREATED:20230516T135619Z
LAST-MODIFIED:20230516T135622Z
UID:40680-1677153600-1690736400@artequeacontece.com.br
SUMMARY:Jace Clayton no MassArt Art Museum
DESCRIPTION:Jace Clayton\, artista e escritor baseado em Nova York\, também conhecido por seu trabalho como DJ\, cria experiências multissensoriais que exploram a natureza inesperada e dialógica da música ao redor do mundo. Interessado em como os sons têm e definem significado social\, Clayton escreve composições musicais\, cria novos instrumentos sonoros e constrói instalações participativas. They Are Part reúne três obras do artista que entrelaçam memórias\, sons e espaços públicos.
URL:https://artequeacontece.com.br/evento/jace-clayton-no-massart-art-museum/
LOCATION:MassArt Art Museum\, 621 Huntington Ave\, Boston\, Massachusetts\, Estados Unidos
CATEGORIES:Boston
ATTACH;FMTTYPE=image/jpeg:https://artequeacontece.com.br/wp-content/uploads/2023/05/1A3A3732.jpg
END:VEVENT
END:VCALENDAR