BEGIN:VCALENDAR
VERSION:2.0
PRODID:-//Arte Que Acontece - ECPv6.15.20//NONSGML v1.0//EN
CALSCALE:GREGORIAN
METHOD:PUBLISH
X-WR-CALNAME:Arte Que Acontece
X-ORIGINAL-URL:https://artequeacontece.com.br
X-WR-CALDESC:Eventos para Arte Que Acontece
REFRESH-INTERVAL;VALUE=DURATION:PT1H
X-Robots-Tag:noindex
X-PUBLISHED-TTL:PT1H
BEGIN:VTIMEZONE
TZID:America/Sao_Paulo
BEGIN:STANDARD
TZOFFSETFROM:-0300
TZOFFSETTO:-0300
TZNAME:-03
DTSTART:20240101T000000
END:STANDARD
END:VTIMEZONE
BEGIN:VEVENT
DTSTART;TZID=America/Sao_Paulo:20250613T100000
DTEND;TZID=America/Sao_Paulo:20251019T180000
DTSTAMP:20260419T103332
CREATED:20250917T192258Z
LAST-MODIFIED:20250917T192258Z
UID:64927-1749808800-1760896800@artequeacontece.com.br
SUMMARY:"Ithell Colquhoun" na Tate Britain
DESCRIPTION:Ithell Colquhoun\, “Alcove”\, 1946. Coleção Particular © Spire Healthcare\, © Noise Abatement Society\, © Samaritans\n\n\n\n\n\n\n\n\n\n\n\n\n\nUma das artistas mais radicais de sua geração\, Ithell Colquhoun foi uma figura importante do Surrealismo britânico durante as décadas de 1930 e 1940. Escritora inovadora e ocultista praticante\, Colquhoun seguiu seu próprio caminho\, investigando métodos surrealistas de criação inconsciente de imagens e mergulhando sem medo nos domínios do mito e da magia. \nEsta exposição histórica\, com mais de 140 obras e materiais de arquivo\, traça a evolução de Colquhoun\, desde seus primeiros trabalhos como estudante e seu envolvimento com o movimento surrealista até sua fascinação pelos domínios interligados da arte\, identidade sexual\, ecologia e ocultismo. A mostra culmina em uma sala dedicada à interpretação de Colquhoun do baralho de Tarô – sua fusão mais completa entre prática artística e mágica. \nExplore o universo fascinante e multifacetado de Colquhoun por meio de escritos\, desenhos e pinturas\, muitos deles nunca exibidos publicamente antes. \nA exposição estreou na Tate St Ives em fevereiro de 2025 antes de chegar à Tate Britain.
URL:https://artequeacontece.com.br/evento/ithell-colquhoun-na-tate-britain/
LOCATION:Tate Britain\, Millbank\, London SW1P 4RG\, Londres\, Reino unido
CATEGORIES:Londres
ATTACH;FMTTYPE=image/jpeg:https://artequeacontece.com.br/wp-content/uploads/2025/09/Ithell_Colquhoun_Alcove_1946.width-1200-1.jpg
END:VEVENT
END:VCALENDAR