BEGIN:VCALENDAR
VERSION:2.0
PRODID:-//Arte Que Acontece - ECPv6.15.20//NONSGML v1.0//EN
CALSCALE:GREGORIAN
METHOD:PUBLISH
X-WR-CALNAME:Arte Que Acontece
X-ORIGINAL-URL:https://artequeacontece.com.br
X-WR-CALDESC:Eventos para Arte Que Acontece
REFRESH-INTERVAL;VALUE=DURATION:PT1H
X-Robots-Tag:noindex
X-PUBLISHED-TTL:PT1H
BEGIN:VTIMEZONE
TZID:America/Sao_Paulo
BEGIN:STANDARD
TZOFFSETFROM:-0300
TZOFFSETTO:-0300
TZNAME:-03
DTSTART:20230101T000000
END:STANDARD
END:VTIMEZONE
BEGIN:VEVENT
DTSTART;TZID=America/Sao_Paulo:20240228T110000
DTEND;TZID=America/Sao_Paulo:20240407T200000
DTSTAMP:20260422T094826
CREATED:20240306T201121Z
LAST-MODIFIED:20240306T201124Z
UID:47064-1709118000-1712520000@artequeacontece.com.br
SUMMARY:"Iris Millot — The sun comes out at the fork in the road" na Maison Européenne de la Photographie
DESCRIPTION:Reprodução/Divulgação Maison Européenne de la Photographie\n\n\n\nA exposição apresenta a série Le soleil passe à l’embranchement [O sol aparece na encruzilhada] de Iris Millot\, na qual a artista mergulha na história de sua tia-avó Hélène\, uma ex-ativista do MLF\, o movimento de libertação das mulheres na França. Hélène viveu em sua fazenda ancestral por 40 anos\, cultivando a terra e mantendo a floresta ao redor. Aos 77 anos\, ela ainda corta as árvores por conta própria quando morrem. Os recursos hídricos estão secando e ela provavelmente será a última pessoa a trabalhar na terra. Entre documentário e ficção\, Iris Millot conta a história da vida de Hélène\, combinando fotografias\, gravações\, fragmentos de texto dos diários de Hélène e arquivos encontrados no sótão dela.
URL:https://artequeacontece.com.br/evento/iris-millot-the-sun-comes-out-at-the-fork-in-the-road-na-maison-europeenne-de-la-photographie/
LOCATION:Maison Européenne de la Photographie\, 5/7 Rue de Fourcy\, Paris\, França
CATEGORIES:Paris
ATTACH;FMTTYPE=image/jpeg:https://artequeacontece.com.br/wp-content/uploads/2024/03/iris-millot-the-sun-comes-out-at-the-fork-in-the-road-exibart-street-photography.jpeg
END:VEVENT
END:VCALENDAR