BEGIN:VCALENDAR
VERSION:2.0
PRODID:-//Arte Que Acontece - ECPv6.15.20//NONSGML v1.0//EN
CALSCALE:GREGORIAN
METHOD:PUBLISH
X-WR-CALNAME:Arte Que Acontece
X-ORIGINAL-URL:https://artequeacontece.com.br
X-WR-CALDESC:Eventos para Arte Que Acontece
REFRESH-INTERVAL;VALUE=DURATION:PT1H
X-Robots-Tag:noindex
X-PUBLISHED-TTL:PT1H
BEGIN:VTIMEZONE
TZID:America/Sao_Paulo
BEGIN:STANDARD
TZOFFSETFROM:-0300
TZOFFSETTO:-0300
TZNAME:-03
DTSTART:20240101T000000
END:STANDARD
END:VTIMEZONE
BEGIN:VEVENT
DTSTART;TZID=America/Sao_Paulo:20251115T120000
DTEND;TZID=America/Sao_Paulo:20260110T170000
DTSTAMP:20260422T084645
CREATED:20251119T172319Z
LAST-MODIFIED:20251119T172319Z
UID:66274-1763208000-1768064400@artequeacontece.com.br
SUMMARY:“Iridium” de Débora Mazloum no ABAPIRÁ
DESCRIPTION:Débora Mazloum\, detalhe da obra. Divulgação.\nA mostra parte de uma seleção de “cerâmicas paramagnéticas”\, criadas a partir de misturas de argila\, metais ferrosos e magnetita\, queimadas a alta temperatura. As peças lembram tanto fragmentos de corpos celestes\, meteoritos\, como pedras preciosas ou rochas marinhas formadas ao longo de milênios. Com curadoria de Mariana Leme\, as obras no espaço se organizam de forma constelar\, inclusive com a presença física da força de atração magnética na instalação inédita “Iridium”\, que dá nome à exposição. \n 
URL:https://artequeacontece.com.br/evento/iridium-de-debora-mazloum-no-abapira/
LOCATION:Abapirá\, Rua do Mercado\, 45 – Centro\, Rio de Janeiro\, RJ\, Brazil
CATEGORIES:Rio de Janeiro
ATTACH;FMTTYPE=image/jpeg:https://artequeacontece.com.br/wp-content/uploads/2025/11/Debora-Mazlou_detalhe03.jpg
END:VEVENT
END:VCALENDAR