BEGIN:VCALENDAR
VERSION:2.0
PRODID:-//Arte Que Acontece - ECPv6.15.20//NONSGML v1.0//EN
CALSCALE:GREGORIAN
METHOD:PUBLISH
X-WR-CALNAME:Arte Que Acontece
X-ORIGINAL-URL:https://artequeacontece.com.br
X-WR-CALDESC:Eventos para Arte Que Acontece
REFRESH-INTERVAL;VALUE=DURATION:PT1H
X-Robots-Tag:noindex
X-PUBLISHED-TTL:PT1H
BEGIN:VTIMEZONE
TZID:America/Sao_Paulo
BEGIN:STANDARD
TZOFFSETFROM:-0300
TZOFFSETTO:-0300
TZNAME:-03
DTSTART:20240101T000000
END:STANDARD
END:VTIMEZONE
BEGIN:VEVENT
DTSTART;TZID=America/Sao_Paulo:20250614T090000
DTEND;TZID=America/Sao_Paulo:20250824T180000
DTSTAMP:20260422T060128
CREATED:20250615T212400Z
LAST-MODIFIED:20250615T212400Z
UID:63245-1749891600-1756058400@artequeacontece.com.br
SUMMARY:"Inventário Parcial" de Luiz Dolino no MAC Niterói
DESCRIPTION:Luiz\, Dolino\, “Polichinelo”\, 2021 – Divulgação\n\n\n\n\nNo dia 14 de junho\, o Museu de Arte Contemporânea de Niterói inaugura importante mostra do artista Luiz Dolino\, “Inventário Parcial”\, que contemplará telas de grandes dimensões produzidas recentemente\, entre 2020 e 2025\, exibidas em conjunto com algumas obras concluídas há 45 anos. Curado por Monica Xexéo\, o evento tem sabor de dupla comemoração para o artista: além de estar completando 80 anos de vida\, com esta exposição Dolino retorna à cidade onde foi criado\, com a qual mantém forte vínculo. Na ocasião da abertura será lançado o livro de mesmo título\, contendo ilustrações e textos de críticos arte\, artistas e amigos pessoais\, como Carlos Drummond de Andrade\, Nélida Piñon\, Frederico Moraes e Leonel Kaz. \nCom mais de cinco décadas de carreira no Brasil e tendo percorrido países mundo afora (Espanha\, Portugal\, Grécia\, Áustria\, Perú\, Uruguai\, Argentina)\, o artista plástico fluminense Luiz Dolino tem o trabalho reconhecido pela abstração geométrica. Marcadas pelo uso de cores e justaposições criativas\, suas telas se destacam pela combinação que ele\, como artista com formação também em ciências exatas\, faz com singular precisão. Na casa-ateliê em Petrópolis\, no meio da natureza exuberante\, a produção segue em ritmo enérgico\, como o espectador poderá testemunhar na mostra que ficará em cartaz até o dia 24 de agosto\, ocupando o mezanino do museu.
URL:https://artequeacontece.com.br/evento/inventario-parcial-de-luiz-dolino-no-mac-niteroi/
LOCATION:MAC Niterói\, Mirante da Boa Viagem\, s/nº – Boa Viagem\, Niterói\, RJ\, Brasil
CATEGORIES:Rio de Janeiro
ATTACH;FMTTYPE=image/jpeg:https://artequeacontece.com.br/wp-content/uploads/2025/06/Polichinelo-140x180-cm-2021-1-1.jpeg
END:VEVENT
END:VCALENDAR