BEGIN:VCALENDAR
VERSION:2.0
PRODID:-//Arte Que Acontece - ECPv6.15.20//NONSGML v1.0//EN
CALSCALE:GREGORIAN
METHOD:PUBLISH
X-WR-CALNAME:Arte Que Acontece
X-ORIGINAL-URL:https://artequeacontece.com.br
X-WR-CALDESC:Eventos para Arte Que Acontece
REFRESH-INTERVAL;VALUE=DURATION:PT1H
X-Robots-Tag:noindex
X-PUBLISHED-TTL:PT1H
BEGIN:VTIMEZONE
TZID:America/Sao_Paulo
BEGIN:STANDARD
TZOFFSETFROM:-0300
TZOFFSETTO:-0300
TZNAME:-03
DTSTART:20220101T000000
END:STANDARD
END:VTIMEZONE
BEGIN:VEVENT
DTSTART;TZID=America/Sao_Paulo:20230826T140000
DTEND;TZID=America/Sao_Paulo:20230923T190000
DTSTAMP:20260422T071136
CREATED:20230911T140127Z
LAST-MODIFIED:20230911T140135Z
UID:43851-1693058400-1695495600@artequeacontece.com.br
SUMMARY:"Instabilidade Fundamental" na OMA Galeria
DESCRIPTION:A OMA Galeria apresenta a exposição coletiva Instabilidade Fundamental\, com curadoria de Alice Granada\, Ana Carla Soler e Lucas Dilacerda. A mostra conta com produções de 26 artistas envolvendo questões sobre paisagem\, arquitetura\, corporeidade e materialidade em diferentes meios e técnicas. A exposição ainda conta com recursos de acessibilidade\, como audiodescrição\, obras interativas\, sonoras e táteis. \n\n\n\nA partir da diversidade dos trabalhos\, abrangendo a relação entre similaridades e diferenças\, a equipe curatorial propôs o título da mostra: “Instabilidade Fundamental”. A frase faz referência ao psicanalista francês Jacques Lacan (1901 – 1981)\, que afirmou que todo “equilíbrio” é na verdade sustentado por uma base de instabilidade. A exposição foi pensada como um tratado político de convivência\, mostrando a produção de artistas de territórios e trajetórias distintas\, constituindo zonas de contato e de fricção entre as obras apresentadas. \n\n\n\nDividida entre os dois andares da galeria\, a mostra conta com três núcleos: Arquiteturas intensivas\, discutindo a relação conflituosa entre as construções humanas\, a natureza e as materialidades; Corporeidades afetivas\, tratando das tensões dos limites entre o corpo\, o mundo e o tempo; e Paisagens sociais\, abordando a subjetividade\, o ambiente e a sociedade\, compreendendo a percepção também como algo político. Os três eixos da mostra tensionam a relação entre o passado\, presente e o futuro\, as relações com as tecnologias e a percepção do mundo com tempos dilatados e sobrepostos.  O mote do conceito curatorial partiu da noção de deslocamento apresentada pelos próprios artistas participantes do projeto\, que fizeram uma caminhada entre as sedes de São Paulo e São Bernardo da OMA Galeria para pensar e desenvolver a exposição. \n\n\n\nA exposição coletiva faz parte do processo de discussões e vivências propostos pela 8ª Edição do Laboratório OMA de Artes Visuais\, mediadas pelo galerista Thomaz Pacheco. O Laboratório faz parte das ações da galeria que visam a discussão sobre circuito de arte\, a profissionalização\, e a elaboração de projetos culturais.
URL:https://artequeacontece.com.br/evento/instabilidade-fundamental-na-oma-galeria/
LOCATION:OMA Galeria\, Rua França Pinto\, 1100\, Loja 2 - Vila Mariana\, São Paulo\, SP
CATEGORIES:São Paulo
ATTACH;FMTTYPE=image/jpeg:https://artequeacontece.com.br/wp-content/uploads/2023/09/caminhos-internos_2021_anny-lemos_-acrilica-sobre-tela_156cmx156cm_fotochristianspoto-1.jpg
END:VEVENT
END:VCALENDAR